BEGIN:VCALENDAR
VERSION:2.0
PRODID:-//The Burke Manor Inn &amp; Pavilion  - ECPv6.15.20//NONSGML v1.0//EN
CALSCALE:GREGORIAN
METHOD:PUBLISH
X-WR-CALNAME:The Burke Manor Inn &amp; Pavilion 
X-ORIGINAL-URL:https://burkemanor.com
X-WR-CALDESC:Events for The Burke Manor Inn &amp; Pavilion 
REFRESH-INTERVAL;VALUE=DURATION:PT1H
X-Robots-Tag:noindex
X-PUBLISHED-TTL:PT1H
BEGIN:VTIMEZONE
TZID:America/New_York
BEGIN:DAYLIGHT
TZOFFSETFROM:-0500
TZOFFSETTO:-0400
TZNAME:EDT
DTSTART:20240310T070000
END:DAYLIGHT
BEGIN:STANDARD
TZOFFSETFROM:-0400
TZOFFSETTO:-0500
TZNAME:EST
DTSTART:20241103T060000
END:STANDARD
BEGIN:DAYLIGHT
TZOFFSETFROM:-0500
TZOFFSETTO:-0400
TZNAME:EDT
DTSTART:20250309T070000
END:DAYLIGHT
BEGIN:STANDARD
TZOFFSETFROM:-0400
TZOFFSETTO:-0500
TZNAME:EST
DTSTART:20251102T060000
END:STANDARD
BEGIN:DAYLIGHT
TZOFFSETFROM:-0500
TZOFFSETTO:-0400
TZNAME:EDT
DTSTART:20260308T070000
END:DAYLIGHT
BEGIN:STANDARD
TZOFFSETFROM:-0400
TZOFFSETTO:-0500
TZNAME:EST
DTSTART:20261101T060000
END:STANDARD
END:VTIMEZONE
BEGIN:VEVENT
DTSTART;TZID=America/New_York:20251115T123000
DTEND;TZID=America/New_York:20251115T143000
DTSTAMP:20260423T201355
CREATED:20250930T202203Z
LAST-MODIFIED:20250930T202229Z
UID:10844-1763209800-1763217000@burkemanor.com
SUMMARY:November Cooking Demonstration
DESCRIPTION:
URL:https://burkemanor.com/event/november-cooking-demonstration/
LOCATION:St. Jacques at the Burke Manor\, 303 Burke St\, Gibsonville\, NC\, 27249\, United States
CATEGORIES:Cooking Demonstrations
ORGANIZER;CN="Lil Lacassagne":MAILTO:info@burkemanor.com
END:VEVENT
BEGIN:VEVENT
DTSTART;TZID=America/New_York:20251120T183000
DTEND;TZID=America/New_York:20251120T213000
DTSTAMP:20260423T201355
CREATED:20250930T202642Z
LAST-MODIFIED:20250930T202657Z
UID:10846-1763663400-1763674200@burkemanor.com
SUMMARY:Annual Beaujolais Nouveau Dinner
DESCRIPTION:
URL:https://burkemanor.com/event/annual-beaujolais-nouveau-dinner/
LOCATION:St. Jacques at the Burke Manor\, 303 Burke St\, Gibsonville\, NC\, 27249\, United States
CATEGORIES:Wine Dinners
ORGANIZER;CN="Lil Lacassagne":MAILTO:info@burkemanor.com
END:VEVENT
BEGIN:VEVENT
DTSTART;TZID=America/New_York:20251123T120000
DTEND;TZID=America/New_York:20251123T140000
DTSTAMP:20260423T201355
CREATED:20250930T200820Z
LAST-MODIFIED:20251102T235749Z
UID:10841-1763899200-1763906400@burkemanor.com
SUMMARY:Burke Manor Inn Brunch (November)
DESCRIPTION:
URL:https://burkemanor.com/event/burke-manor-inn-brunch-november/
LOCATION:St. Jacques at the Burke Manor\, 303 Burke St\, Gibsonville\, NC\, 27249\, United States
CATEGORIES:Brunch
ORGANIZER;CN="Lil Lacassagne":MAILTO:info@burkemanor.com
END:VEVENT
END:VCALENDAR