BEGIN:VCALENDAR
VERSION:2.0
PRODID:-//The Burke Manor Inn &amp; Pavilion  - ECPv6.15.20//NONSGML v1.0//EN
CALSCALE:GREGORIAN
METHOD:PUBLISH
X-ORIGINAL-URL:https://burkemanor.com
X-WR-CALDESC:Events for The Burke Manor Inn &amp; Pavilion 
REFRESH-INTERVAL;VALUE=DURATION:PT1H
X-Robots-Tag:noindex
X-PUBLISHED-TTL:PT1H
BEGIN:VTIMEZONE
TZID:America/New_York
BEGIN:DAYLIGHT
TZOFFSETFROM:-0500
TZOFFSETTO:-0400
TZNAME:EDT
DTSTART:20220313T070000
END:DAYLIGHT
BEGIN:STANDARD
TZOFFSETFROM:-0400
TZOFFSETTO:-0500
TZNAME:EST
DTSTART:20221106T060000
END:STANDARD
BEGIN:DAYLIGHT
TZOFFSETFROM:-0500
TZOFFSETTO:-0400
TZNAME:EDT
DTSTART:20230312T070000
END:DAYLIGHT
BEGIN:STANDARD
TZOFFSETFROM:-0400
TZOFFSETTO:-0500
TZNAME:EST
DTSTART:20231105T060000
END:STANDARD
BEGIN:DAYLIGHT
TZOFFSETFROM:-0500
TZOFFSETTO:-0400
TZNAME:EDT
DTSTART:20240310T070000
END:DAYLIGHT
BEGIN:STANDARD
TZOFFSETFROM:-0400
TZOFFSETTO:-0500
TZNAME:EST
DTSTART:20241103T060000
END:STANDARD
END:VTIMEZONE
BEGIN:VEVENT
DTSTART;TZID=America/New_York:20230831T110000
DTEND;TZID=America/New_York:20230902T210000
DTSTAMP:20260425T133639
CREATED:20230630T220105Z
LAST-MODIFIED:20230630T220105Z
UID:9785-1693479600-1693688400@burkemanor.com
SUMMARY:Serving hours week of August 27th
DESCRIPTION:We will be serving lunch on Thursday\, August 31st and Friday\, September 1st \nWe will be serving a la carte dinner \, Thursday\, August 31st through Saturday\, September 2nd \n 
URL:https://burkemanor.com/event/serving-hours-week-of-august-27th/
LOCATION:NC
END:VEVENT
BEGIN:VEVENT
DTSTART;TZID=America/New_York:20230907T110000
DTEND;TZID=America/New_York:20230909T210000
DTSTAMP:20260425T133639
CREATED:20230116T174733Z
LAST-MODIFIED:20230630T220319Z
UID:9045-1694084400-1694293200@burkemanor.com
SUMMARY:Serving Dates the Week of September 3
DESCRIPTION:We will be serving lunch Thursday\, September 7th and Friday\, September 8th. \nWe will be serving dinner Thursday\, September 7th through Saturday\, September 9th. \nChef Lil will be hosting our September cooking class on Saturday\, September 9th at 12:30pm. \nSee you then!
URL:https://burkemanor.com/event/serving-dates-the-week-of-september-3/
LOCATION:NC
END:VEVENT
BEGIN:VEVENT
DTSTART;TZID=America/New_York:20230909T123000
DTEND;TZID=America/New_York:20230909T143000
DTSTAMP:20260425T133639
CREATED:20230119T164235Z
LAST-MODIFIED:20230807T160450Z
UID:9098-1694262600-1694269800@burkemanor.com
SUMMARY:September Cooking Demonstration\, Saturday 9/9
DESCRIPTION:Join Chef Lil at The Burke Manor as he demonstrates how to prepare and cook special September menu items! \nReservations required. We request all cancellations be made 48 hours or more prior to event. If cancellation occurs within a 48-hour timeframe\, a $25 fee will apply. A credit card may be required to guarantee your reservation.
URL:https://burkemanor.com/event/september-cooking-class-saturday-9-9/
LOCATION:NC
END:VEVENT
BEGIN:VEVENT
DTSTART;TZID=America/New_York:20230910T080000
DTEND;TZID=America/New_York:20230916T210000
DTSTAMP:20260425T133639
CREATED:20230116T174849Z
LAST-MODIFIED:20230630T220553Z
UID:9047-1694332800-1694898000@burkemanor.com
SUMMARY:Serving Dates the Week of September 10
DESCRIPTION:We will be serving lunch Thursday\, September 14th through Saturday\, September 16th. \nWe will be serving dinner Wednesday\, September 13th\, Friday 15th & Saturday\, September 16th. \nA Special Wine Dinner will be served on Thursday\, September 14th.
URL:https://burkemanor.com/event/serving-dates-the-week-of-september-10/
LOCATION:NC
END:VEVENT
BEGIN:VEVENT
DTSTART;TZID=America/New_York:20230914T183000
DTEND;TZID=America/New_York:20230914T213000
DTSTAMP:20260425T133639
CREATED:20230428T011850Z
LAST-MODIFIED:20230623T230627Z
UID:9695-1694716200-1694727000@burkemanor.com
SUMMARY:Alsace Wine Dinner 9/14
DESCRIPTION:Chef Lil has created a very special wine dinner featuring menu and wines from the Alsace region of France. \nThe Burke Manor Inn Alsace Dinner Thursday\, September 14th at 630pm (2) \n 
URL:https://burkemanor.com/event/wine-dinner-9-14/
LOCATION:NC
END:VEVENT
BEGIN:VEVENT
DTSTART;TZID=America/New_York:20230920T170000
DTEND;TZID=America/New_York:20230923T210000
DTSTAMP:20260425T133639
CREATED:20230116T175049Z
LAST-MODIFIED:20230918T220758Z
UID:9049-1695229200-1695502800@burkemanor.com
SUMMARY:Serving Dates the Week of September 17
DESCRIPTION:We will be serving lunch Thursday\, September 21st & Saturday\, September 23rd. \nWe will be serving dinner Wednesday\, September 20th\, Thursday\, September 21st\, and Saturday\, September 23rd.
URL:https://burkemanor.com/event/serving-dates-the-week-of-september-17/
LOCATION:NC
END:VEVENT
BEGIN:VEVENT
DTSTART;TZID=America/New_York:20230928T110000
DTEND;TZID=America/New_York:20230930T210000
DTSTAMP:20260425T133639
CREATED:20230907T164735Z
LAST-MODIFIED:20230918T220614Z
UID:9851-1695898800-1696107600@burkemanor.com
SUMMARY:Serving Dates the Week of September 24th
DESCRIPTION:We will be serving lunch & dinner Thursday\, September 28th through Saturday\, September 30th.\n\n\n\n“Gibsonville Girls Night Out” Thursday\, September 28th 5p-8pm \n“Elon Parents Weekend” Friday\, September 29th & 30th
URL:https://burkemanor.com/event/serving-dates-the-week-of-september-24th/
LOCATION:NC
END:VEVENT
END:VCALENDAR