BEGIN:VCALENDAR
VERSION:2.0
PRODID:-//The Burke Manor Inn &amp; Pavilion  - ECPv6.15.20//NONSGML v1.0//EN
CALSCALE:GREGORIAN
METHOD:PUBLISH
X-WR-CALNAME:The Burke Manor Inn &amp; Pavilion 
X-ORIGINAL-URL:https://burkemanor.com
X-WR-CALDESC:Events for The Burke Manor Inn &amp; Pavilion 
REFRESH-INTERVAL;VALUE=DURATION:PT1H
X-Robots-Tag:noindex
X-PUBLISHED-TTL:PT1H
BEGIN:VTIMEZONE
TZID:America/New_York
BEGIN:DAYLIGHT
TZOFFSETFROM:-0500
TZOFFSETTO:-0400
TZNAME:EDT
DTSTART:20220313T070000
END:DAYLIGHT
BEGIN:STANDARD
TZOFFSETFROM:-0400
TZOFFSETTO:-0500
TZNAME:EST
DTSTART:20221106T060000
END:STANDARD
BEGIN:DAYLIGHT
TZOFFSETFROM:-0500
TZOFFSETTO:-0400
TZNAME:EDT
DTSTART:20230312T070000
END:DAYLIGHT
BEGIN:STANDARD
TZOFFSETFROM:-0400
TZOFFSETTO:-0500
TZNAME:EST
DTSTART:20231105T060000
END:STANDARD
BEGIN:DAYLIGHT
TZOFFSETFROM:-0500
TZOFFSETTO:-0400
TZNAME:EDT
DTSTART:20240310T070000
END:DAYLIGHT
BEGIN:STANDARD
TZOFFSETFROM:-0400
TZOFFSETTO:-0500
TZNAME:EST
DTSTART:20241103T060000
END:STANDARD
END:VTIMEZONE
BEGIN:VEVENT
DTSTART;TZID=America/New_York:20230528T080000
DTEND;TZID=America/New_York:20230603T210000
DTSTAMP:20260425T180432
CREATED:20230116T173120Z
LAST-MODIFIED:20230116T173120Z
UID:9025-1685260800-1685826000@burkemanor.com
SUMMARY:Serving Dates the Week of May 28
DESCRIPTION:We will be serving lunch Thursday\, June 1st through Saturday\, June 3rd. \nWe will be serving dinner Wednesday\, April 31st through Saturday\, June 3rd. See you then!
URL:https://burkemanor.com/event/serving-dates-the-week-of-may-28/
LOCATION:NC
END:VEVENT
BEGIN:VEVENT
DTSTART;TZID=America/New_York:20230603T183000
DTEND;TZID=America/New_York:20230603T223000
DTSTAMP:20260425T180432
CREATED:20230303T222550Z
LAST-MODIFIED:20230303T222550Z
UID:9392-1685817000-1685831400@burkemanor.com
SUMMARY:The Burke Manor Pavilion Presents: 80's Dance Party!
DESCRIPTION:Join us for our 80’s dance party on Saturday\, June 3rd from 6:30pm to 10:30pm! \nRegister and prepay for the event on the Event Registration page ($25) or pay at the door ($30). 
URL:https://burkemanor.com/event/the-burke-manor-pavilion-presents-80s-dance-party/
LOCATION:NC
END:VEVENT
BEGIN:VEVENT
DTSTART;TZID=America/New_York:20230604T080000
DTEND;TZID=America/New_York:20230610T210000
DTSTAMP:20260425T180432
CREATED:20230116T173238Z
LAST-MODIFIED:20230208T192044Z
UID:9027-1685865600-1686430800@burkemanor.com
SUMMARY:Serving Dates the Week of June 4
DESCRIPTION:We will be serving lunch Thursday\, June 8th and Friday\, June 9th. \nWe will be serving dinner Wednesday\, June 7th through Saturday\, June 10th. See you then!
URL:https://burkemanor.com/event/serving-dates-the-week-of-june-4/
LOCATION:NC
END:VEVENT
BEGIN:VEVENT
DTSTART;TZID=America/New_York:20230611T080000
DTEND;TZID=America/New_York:20230617T210000
DTSTAMP:20260425T180432
CREATED:20230116T173359Z
LAST-MODIFIED:20230119T171942Z
UID:9029-1686470400-1687035600@burkemanor.com
SUMMARY:Serving Dates the Week of June 11
DESCRIPTION:We will be serving our Special June Brunch on Saturday\, June 11th from 11:30am to 2:00pm. \nWe will be serving lunch Thursday\, June 15th through Saturday\, June 17th. \nWe will be serving dinner Wednesday\, June 14th through Saturday\, June 17th. See you then!
URL:https://burkemanor.com/event/serving-dates-the-week-of-june-11/
LOCATION:NC
END:VEVENT
BEGIN:VEVENT
DTSTART;TZID=America/New_York:20230611T113000
DTEND;TZID=America/New_York:20230611T140000
DTSTAMP:20260425T180432
CREATED:20230119T163357Z
LAST-MODIFIED:20230609T201220Z
UID:9086-1686483000-1686492000@burkemanor.com
SUMMARY:Special June Brunch\, Sunday 6/11
DESCRIPTION:Join us Sunday\, June 11th for a special brunch curated by Owner/Chef Lil Lacassagne. \nJune Brunch Menu 2023 \nReservations required. We request all cancellations be made 48 hours or more prior to event. If cancellation occurs within a 48-hour timeframe\, a $25 fee will apply. A credit card may be required to guarantee your reservation.
URL:https://burkemanor.com/event/special-june-brunch-6-11/
LOCATION:NC
END:VEVENT
BEGIN:VEVENT
DTSTART;TZID=America/New_York:20230617T123000
DTEND;TZID=America/New_York:20230617T143000
DTSTAMP:20260425T180432
CREATED:20230404T184557Z
LAST-MODIFIED:20230609T222049Z
UID:9613-1687005000-1687012200@burkemanor.com
SUMMARY:"South of France" Cooking Class
DESCRIPTION:June 17th @ 12:30 pm\n\n\n\nJoin Chef Lil at The Burke Manor as he demonstrates how to prepare and cook special South of France Favorites! \nReservations required. We request all cancellations be made 48 hours or more prior to event. If cancellation occurs within a 48-hour timeframe\, a $25 fee will apply. A credit card may be required to guarantee your reservation. \njunecc pdf \n  \n  \n  \n  \n 
URL:https://burkemanor.com/event/south-of-france-cooking-class/
LOCATION:NC
ATTACH;FMTTYPE=application/pdf:https://burkemanor.com/wp-content/uploads/2023/04/junecc-pdf-1.pdf
END:VEVENT
BEGIN:VEVENT
DTSTART;VALUE=DATE:20230619
DTEND;VALUE=DATE:20230629
DTSTAMP:20260425T180432
CREATED:20220610T223405Z
LAST-MODIFIED:20230208T190359Z
UID:8354-1687132800-1687996799@burkemanor.com
SUMMARY:Lil's Extraordinary Trips to France 2023: Burgundy!
DESCRIPTION:Join Lil in his native land of France in 2023! He will take travelers to Burgundy June 19th through June 28th. \nDuring this trip\, guests will dine at some of the best Michelin Star restaurants in the world\, combining both elegance and charming scenery. Rural historic sites add charisma and grace\, and guests will be welcomed by friendly Bourgogne locals. Guests will experience the top gastronomical destinations that one can dream to visit — if there are any places in France that must be visited\, these are the ones! \nFor our itinerary\, please visit https://burkemanor.com/normandy-and-south-of-france-trip-itinerary/burgundy-2023/.
URL:https://burkemanor.com/event/lils-extraordinary-trips-to-france-2023-burgundy/
LOCATION:NC
END:VEVENT
BEGIN:VEVENT
DTSTART;TZID=America/New_York:20230621T080000
DTEND;TZID=America/New_York:20230630T210000
DTSTAMP:20260425T180432
CREATED:20230303T223407Z
LAST-MODIFIED:20230622T221643Z
UID:9396-1687334400-1688158800@burkemanor.com
SUMMARY:Lunch and Dinner Service 6/21 through 6/30
DESCRIPTION:Our fine dining restaurant will be serving  lunch Thursday 22nd – 24th and  Friday 30th. \nDinner services available Wednesday 21st – Saturday 24th and Wed 28th – Friday 30th. \n 
URL:https://burkemanor.com/event/limited-lunch-and-dinner-service-6-21-through-6-28/
LOCATION:NC
END:VEVENT
END:VCALENDAR