BEGIN:VCALENDAR
VERSION:2.0
PRODID:-//The Burke Manor Inn &amp; Pavilion  - ECPv6.15.20//NONSGML v1.0//EN
CALSCALE:GREGORIAN
METHOD:PUBLISH
X-WR-CALNAME:The Burke Manor Inn &amp; Pavilion 
X-ORIGINAL-URL:https://burkemanor.com
X-WR-CALDESC:Events for The Burke Manor Inn &amp; Pavilion 
REFRESH-INTERVAL;VALUE=DURATION:PT1H
X-Robots-Tag:noindex
X-PUBLISHED-TTL:PT1H
BEGIN:VTIMEZONE
TZID:America/New_York
BEGIN:DAYLIGHT
TZOFFSETFROM:-0500
TZOFFSETTO:-0400
TZNAME:EDT
DTSTART:20220313T070000
END:DAYLIGHT
BEGIN:STANDARD
TZOFFSETFROM:-0400
TZOFFSETTO:-0500
TZNAME:EST
DTSTART:20221106T060000
END:STANDARD
BEGIN:DAYLIGHT
TZOFFSETFROM:-0500
TZOFFSETTO:-0400
TZNAME:EDT
DTSTART:20230312T070000
END:DAYLIGHT
BEGIN:STANDARD
TZOFFSETFROM:-0400
TZOFFSETTO:-0500
TZNAME:EST
DTSTART:20231105T060000
END:STANDARD
BEGIN:DAYLIGHT
TZOFFSETFROM:-0500
TZOFFSETTO:-0400
TZNAME:EDT
DTSTART:20240310T070000
END:DAYLIGHT
BEGIN:STANDARD
TZOFFSETFROM:-0400
TZOFFSETTO:-0500
TZNAME:EST
DTSTART:20241103T060000
END:STANDARD
BEGIN:DAYLIGHT
TZOFFSETFROM:-0500
TZOFFSETTO:-0400
TZNAME:EDT
DTSTART:20250309T070000
END:DAYLIGHT
BEGIN:STANDARD
TZOFFSETFROM:-0400
TZOFFSETTO:-0500
TZNAME:EST
DTSTART:20251102T060000
END:STANDARD
END:VTIMEZONE
BEGIN:VEVENT
DTSTART;TZID=America/New_York:20240921T123000
DTEND;TZID=America/New_York:20240921T153000
DTSTAMP:20260424T070818
CREATED:20240512T160746Z
LAST-MODIFIED:20240716T202057Z
UID:10465-1726921800-1726932600@burkemanor.com
SUMMARY:September Cooking Demonstration
DESCRIPTION:
URL:https://burkemanor.com/event/september-cooking-demonstration/
LOCATION:St. Jacques at the Burke Manor\, 303 Burke St\, Gibsonville\, NC\, 27249\, United States
CATEGORIES:Cooking Demonstrations
ORGANIZER;CN="Lil Lacassagne":MAILTO:info@burkemanor.com
END:VEVENT
BEGIN:VEVENT
DTSTART;TZID=America/New_York:20240915T120000
DTEND;TZID=America/New_York:20240915T140000
DTSTAMP:20260424T070818
CREATED:20240808T204725Z
LAST-MODIFIED:20240808T205351Z
UID:10515-1726401600-1726408800@burkemanor.com
SUMMARY:Burke Manor Inn Brunch
DESCRIPTION:
URL:https://burkemanor.com/event/burke-manor-inn-brunch/
LOCATION:St. Jacques at the Burke Manor\, 303 Burke St\, Gibsonville\, NC\, 27249\, United States
CATEGORIES:Brunch
ORGANIZER;CN="Lil Lacassagne":MAILTO:info@burkemanor.com
END:VEVENT
BEGIN:VEVENT
DTSTART;TZID=America/New_York:20240914T120000
DTEND;TZID=America/New_York:20240914T160000
DTSTAMP:20260424T070818
CREATED:20240913T212129Z
LAST-MODIFIED:20240913T212129Z
UID:10553-1726315200-1726329600@burkemanor.com
SUMMARY:No Lunch Service
DESCRIPTION:
URL:https://burkemanor.com/event/no-lunch-service-2/
LOCATION:St. Jacques at the Burke Manor\, 303 Burke St\, Gibsonville\, NC\, 27249\, United States
ORGANIZER;CN="Lil Lacassagne":MAILTO:info@burkemanor.com
END:VEVENT
BEGIN:VEVENT
DTSTART;TZID=America/New_York:20240912T183000
DTEND;TZID=America/New_York:20240912T213000
DTSTAMP:20260424T070818
CREATED:20240814T204931Z
LAST-MODIFIED:20240826T090352Z
UID:10540-1726165800-1726176600@burkemanor.com
SUMMARY:A Julia Child Inspired Wine Dinner
DESCRIPTION:
URL:https://burkemanor.com/event/a-julia-child-inspired-wine-dinner-3/
LOCATION:St. Jacques at the Burke Manor\, 303 Burke St\, Gibsonville\, NC\, 27249\, United States
CATEGORIES:Wine Dinners
ORGANIZER;CN="Lil Lacassagne":MAILTO:info@burkemanor.com
END:VEVENT
BEGIN:VEVENT
DTSTART;TZID=America/New_York:20240829T183000
DTEND;TZID=America/New_York:20240829T213000
DTSTAMP:20260424T070818
CREATED:20240416T205535Z
LAST-MODIFIED:20240826T090317Z
UID:10413-1724956200-1724967000@burkemanor.com
SUMMARY:A Julia Child Inspired Wine Dinner
DESCRIPTION:
URL:https://burkemanor.com/event/a-julia-child-inspired-wine-dinner-2/
LOCATION:St. Jacques at the Burke Manor\, 303 Burke St\, Gibsonville\, NC\, 27249\, United States
CATEGORIES:Wine Dinners
ORGANIZER;CN="Lil Lacassagne":MAILTO:info@burkemanor.com
END:VEVENT
BEGIN:VEVENT
DTSTART;TZID=America/New_York:20240814T170000
DTEND;TZID=America/New_York:20240814T220000
DTSTAMP:20260424T070818
CREATED:20240723T090230Z
LAST-MODIFIED:20240723T090230Z
UID:10505-1723654800-1723672800@burkemanor.com
SUMMARY:No Dinner Service 8/14
DESCRIPTION:
URL:https://burkemanor.com/event/no-dinner-service-8-14/
LOCATION:St. Jacques at the Burke Manor\, 303 Burke St\, Gibsonville\, NC\, 27249\, United States
CATEGORIES:St. Jacques @ The Burke Manor
END:VEVENT
BEGIN:VEVENT
DTSTART;TZID=America/New_York:20240807T170000
DTEND;TZID=America/New_York:20240807T220000
DTSTAMP:20260424T070818
CREATED:20240723T090127Z
LAST-MODIFIED:20240723T090127Z
UID:10503-1723050000-1723068000@burkemanor.com
SUMMARY:No Dinner Service 8/7
DESCRIPTION:
URL:https://burkemanor.com/event/no-dinner-service-8-7/
LOCATION:St. Jacques at the Burke Manor\, 303 Burke St\, Gibsonville\, NC\, 27249\, United States
CATEGORIES:St. Jacques @ The Burke Manor
END:VEVENT
BEGIN:VEVENT
DTSTART;TZID=America/New_York:20240731T170000
DTEND;TZID=America/New_York:20240731T220000
DTSTAMP:20260424T070818
CREATED:20240723T090039Z
LAST-MODIFIED:20240723T090151Z
UID:10501-1722445200-1722463200@burkemanor.com
SUMMARY:No Dinner Service 7/31
DESCRIPTION:
URL:https://burkemanor.com/event/no-dinner-service-7-31/
LOCATION:St. Jacques at the Burke Manor\, 303 Burke St\, Gibsonville\, NC\, 27249\, United States
CATEGORIES:St. Jacques @ The Burke Manor
END:VEVENT
BEGIN:VEVENT
DTSTART;TZID=America/New_York:20240727T123000
DTEND;TZID=America/New_York:20240727T143000
DTSTAMP:20260424T070818
CREATED:20240416T203941Z
LAST-MODIFIED:20240602T223806Z
UID:10410-1722083400-1722090600@burkemanor.com
SUMMARY:July Cooking Demonstration
DESCRIPTION:
URL:https://burkemanor.com/event/july-cooking-demonstration/
LOCATION:St. Jacques at the Burke Manor\, 303 Burke St\, Gibsonville\, NC\, 27249\, United States
CATEGORIES:Cooking Demonstrations
ORGANIZER;CN="Lil Lacassagne":MAILTO:info@burkemanor.com
END:VEVENT
BEGIN:VEVENT
DTSTART;TZID=America/New_York:20240724T170000
DTEND;TZID=America/New_York:20240724T220000
DTSTAMP:20260424T070818
CREATED:20240723T085902Z
LAST-MODIFIED:20240723T085925Z
UID:10498-1721840400-1721858400@burkemanor.com
SUMMARY:No Dinner Service 7/24
DESCRIPTION:
URL:https://burkemanor.com/event/no-dinner-service-7-24/
LOCATION:St. Jacques at the Burke Manor\, 303 Burke St\, Gibsonville\, NC\, 27249\, United States
CATEGORIES:St. Jacques @ The Burke Manor
END:VEVENT
BEGIN:VEVENT
DTSTART;TZID=America/New_York:20240708T080000
DTEND;TZID=America/New_York:20240717T170000
DTSTAMP:20260424T070818
CREATED:20231004T164459Z
LAST-MODIFIED:20231004T164459Z
UID:9982-1720425600-1721235600@burkemanor.com
SUMMARY:Burgundy Group Trip To France  7/8 - 7/17/24
DESCRIPTION:Join Chef Lil as he conducts his 19th year of trips to France.  Burgundy known for its exceptional food and wine is one of \nour travelers favorite areas.
URL:https://burkemanor.com/event/burgundy-group-trip-to-france-7-8-7-17-24/
LOCATION:NC
END:VEVENT
BEGIN:VEVENT
DTSTART;TZID=America/New_York:20240706T153000
DTEND;TZID=America/New_York:20240706T173000
DTSTAMP:20260424T070818
CREATED:20240506T001554Z
LAST-MODIFIED:20240506T001554Z
UID:10461-1720279800-1720287000@burkemanor.com
SUMMARY:Afternoon "in Provence" on the Verandah
DESCRIPTION:Be whisked away to Gibsonville’s little piece of Provence this \nsummer! Enjoy the flexibility of popping in or relaxing the full \ntime to enjoy our special Rosé\, Pastis or Charcuterie\, only \navailable during these hours. \nCome relax\, socialize\, and enjoy a leisurely afternoon on the porch! \nRosé: $8 per glass\, $30 per bottle \nPastis: $9 per glass \nCharcuterie: $18 per board
URL:https://burkemanor.com/event/afternoon-in-provence-on-the-verandah-5/
LOCATION:The Burke Manor Inn & Pavilion\, 303 Burke St\, Gibsonville\, NC\, 27249\, United States
CATEGORIES:Special Events
ORGANIZER;CN="Lil Lacassagne":MAILTO:info@burkemanor.com
END:VEVENT
BEGIN:VEVENT
DTSTART;TZID=America/New_York:20240705T153000
DTEND;TZID=America/New_York:20240705T173000
DTSTAMP:20260424T070818
CREATED:20240506T001503Z
LAST-MODIFIED:20240506T001503Z
UID:10459-1720193400-1720200600@burkemanor.com
SUMMARY:Afternoon "in Provence" on the Verandah
DESCRIPTION:Be whisked away to Gibsonville’s little piece of Provence this \nsummer! Enjoy the flexibility of popping in or relaxing the full \ntime to enjoy our special Rosé\, Pastis or Charcuterie\, only \navailable during these hours. \nCome relax\, socialize\, and enjoy a leisurely afternoon on the porch! \nRosé: $8 per glass\, $30 per bottle \nPastis: $9 per glass \nCharcuterie: $18 per board
URL:https://burkemanor.com/event/afternoon-in-provence-on-the-verandah-4/
LOCATION:The Burke Manor Inn & Pavilion\, 303 Burke St\, Gibsonville\, NC\, 27249\, United States
CATEGORIES:Special Events
ORGANIZER;CN="Lil Lacassagne":MAILTO:info@burkemanor.com
END:VEVENT
BEGIN:VEVENT
DTSTART;TZID=America/New_York:20240627T153000
DTEND;TZID=America/New_York:20240627T173000
DTSTAMP:20260424T070818
CREATED:20240506T001302Z
LAST-MODIFIED:20240506T001302Z
UID:10457-1719502200-1719509400@burkemanor.com
SUMMARY:Afternoon "in Provence" on the Verandah
DESCRIPTION:Be whisked away to Gibsonville’s little piece of Provence this \nsummer! Enjoy the flexibility of popping in or relaxing the full \ntime to enjoy our special Rosé\, Pastis or Charcuterie\, only \navailable during these hours. \nCome relax\, socialize\, and enjoy a leisurely afternoon on the porch! \nRosé: $8 per glass\, $30 per bottle \nPastis: $9 per glass \nCharcuterie: $18 per board
URL:https://burkemanor.com/event/afternoon-in-provence-on-the-verandah-3/
LOCATION:The Burke Manor Inn & Pavilion\, 303 Burke St\, Gibsonville\, NC\, 27249\, United States
CATEGORIES:Special Events
ORGANIZER;CN="Lil Lacassagne":MAILTO:info@burkemanor.com
END:VEVENT
BEGIN:VEVENT
DTSTART;VALUE=DATE:20240624
DTEND;VALUE=DATE:20240704
DTSTAMP:20260424T070818
CREATED:20240119T194808Z
LAST-MODIFIED:20240119T194808Z
UID:10344-1719187200-1720051199@burkemanor.com
SUMMARY:Lil's Outstanding Adventure to the South of France
DESCRIPTION:The amazing weather\, the natural light revered by so many painters and artists\, the gastronomy\, “Cuisine Du Soleil” delicious and healthy\, and the desire for the locals to do and look good\, combined with the elegant luxury in this quiet Provençal far niente make of this region not only my home\, but a true paradise on Earth.
URL:https://burkemanor.com/event/lils-outstanding-adventure-to-the-south-of-france/
LOCATION:NC
CATEGORIES:French Trip Itineraries
END:VEVENT
BEGIN:VEVENT
DTSTART;TZID=America/New_York:20240620T153000
DTEND;TZID=America/New_York:20240620T173000
DTSTAMP:20260424T070818
CREATED:20240506T001216Z
LAST-MODIFIED:20240506T001216Z
UID:10455-1718897400-1718904600@burkemanor.com
SUMMARY:Afternoon "in Provence" on the Verandah
DESCRIPTION:Be whisked away to Gibsonville’s little piece of Provence this \nsummer! Enjoy the flexibility of popping in or relaxing the full \ntime to enjoy our special Rosé\, Pastis or Charcuterie\, only \navailable during these hours. \nCome relax\, socialize\, and enjoy a leisurely afternoon on the porch! \nRosé: $8 per glass\, $30 per bottle \nPastis: $9 per glass \nCharcuterie: $18 per board
URL:https://burkemanor.com/event/afternoon-in-provence-on-the-verandah-2/
LOCATION:The Burke Manor Inn & Pavilion\, 303 Burke St\, Gibsonville\, NC\, 27249\, United States
CATEGORIES:Special Events
ORGANIZER;CN="Lil Lacassagne":MAILTO:info@burkemanor.com
END:VEVENT
BEGIN:VEVENT
DTSTART;TZID=America/New_York:20240613T153000
DTEND;TZID=America/New_York:20240613T173000
DTSTAMP:20260424T070818
CREATED:20240506T001131Z
LAST-MODIFIED:20240506T001131Z
UID:10453-1718292600-1718299800@burkemanor.com
SUMMARY:Afternoon "in Provence" on the Verandah
DESCRIPTION:Be whisked away to Gibsonville’s little piece of Provence this \nsummer! Enjoy the flexibility of popping in or relaxing the full \ntime to enjoy our special Rosé\, Pastis or Charcuterie\, only \navailable during these hours. \nCome relax\, socialize\, and enjoy a leisurely afternoon on the porch! \nRosé: $8 per glass\, $30 per bottle \nPastis: $9 per glass \nCharcuterie: $18 per board
URL:https://burkemanor.com/event/afternoon-in-provence-on-the-verandah/
LOCATION:The Burke Manor Inn & Pavilion\, 303 Burke St\, Gibsonville\, NC\, 27249\, United States
CATEGORIES:Special Events
ORGANIZER;CN="Lil Lacassagne":MAILTO:info@burkemanor.com
END:VEVENT
BEGIN:VEVENT
DTSTART;TZID=America/New_York:20240610T080000
DTEND;TZID=America/New_York:20240619T170000
DTSTAMP:20260424T070818
CREATED:20231004T164249Z
LAST-MODIFIED:20231004T164249Z
UID:9980-1718006400-1718816400@burkemanor.com
SUMMARY:Normandy Trip To France  6/10 - 6/19/2024
DESCRIPTION:Join Chef Lil on this amazing trip to Normandy.  Celebrating 80th Anniversary of “D” Day.
URL:https://burkemanor.com/event/normandy-trip-to-france-6-10-6-19-2024/
LOCATION:NC
END:VEVENT
BEGIN:VEVENT
DTSTART;TZID=America/New_York:20240608T123000
DTEND;TZID=America/New_York:20240608T143000
DTSTAMP:20260424T070818
CREATED:20240203T214834Z
LAST-MODIFIED:20240203T214834Z
UID:10379-1717849800-1717857000@burkemanor.com
SUMMARY:Burke Manor Inn Cooking Class
DESCRIPTION:Veal Short Rib Bourguignon \nBased On A French Classic \n****** \n Chocolate Ball of Dream \nWho doesn’t like chocolate? \nRecipes and samplings of the above items will be accompanied by our special wine selection \n**************************************************** \n$65.00 per person plus tax and gratuity \nSpace is limited so please RSVP early
URL:https://burkemanor.com/event/burke-manor-inn-cooking-class-3/
LOCATION:St. Jacques at the Burke Manor\, 303 Burke St\, Gibsonville\, NC\, 27249\, United States
CATEGORIES:Cooking Demonstrations
ORGANIZER;CN="Lil Lacassagne":MAILTO:info@burkemanor.com
END:VEVENT
BEGIN:VEVENT
DTSTART;TZID=America/New_York:20240512T140000
DTEND;TZID=America/New_York:20240512T170000
DTSTAMP:20260424T070818
CREATED:20240203T214701Z
LAST-MODIFIED:20240327T124552Z
UID:10374-1715522400-1715533200@burkemanor.com
SUMMARY:Mother's Day Supper at The Burke Manor Inn
DESCRIPTION:Join us for a fabulous supper prepared by Chef Lil to celebrate all of our Mothers \nView the menu
URL:https://burkemanor.com/event/mothers-day-supper-at-the-burke-manor-inn/
LOCATION:St. Jacques at the Burke Manor\, 303 Burke St\, Gibsonville\, NC\, 27249\, United States
CATEGORIES:Special Events
ORGANIZER;CN="Lil Lacassagne":MAILTO:info@burkemanor.com
END:VEVENT
BEGIN:VEVENT
DTSTART;TZID=America/New_York:20240508T183000
DTEND;TZID=America/New_York:20240508T213000
DTSTAMP:20260424T070818
CREATED:20240322T193919Z
LAST-MODIFIED:20240322T193949Z
UID:10402-1715193000-1715203800@burkemanor.com
SUMMARY:Burke Manor & Jones Von Drehle Wine Dinner
DESCRIPTION:
URL:https://burkemanor.com/event/burke-manor-jones-von-drehle-wine-dinner/
LOCATION:St. Jacques at the Burke Manor\, 303 Burke St\, Gibsonville\, NC\, 27249\, United States
CATEGORIES:Wine Dinners
ORGANIZER;CN="Lil Lacassagne":MAILTO:info@burkemanor.com
END:VEVENT
BEGIN:VEVENT
DTSTART;TZID=America/New_York:20240418T183000
DTEND;TZID=America/New_York:20240418T213000
DTSTAMP:20260424T070818
CREATED:20240228T151451Z
LAST-MODIFIED:20240228T151451Z
UID:10385-1713465000-1713475800@burkemanor.com
SUMMARY:Alsatian Wine Dinner
DESCRIPTION:Alsatian Wine Dinner featuring Guest Speaker Benoit Dreyer (Winemaker\, Sick-Dreyer) \n*****\nAmuse Bouche \nCrémant Brut Rosé\n*****\nFoie Gras Torchon\nChilled terrine of foie gras on a nutmeg blinis\, smoked duck breast\, and apricot purée gastrique \nYahrpfifel Dry Gewurztraminer \n*****\nPotage\nDelicious cabbage and lardon stew \nPinot Blanc\n*****\nGranité\n*****\nVol Au Vent Au Veau\nSlow braised veal in Riesling cream and mushroom on a puff pastry boat \nPinot Noir \n*****\nRum Baba\nSoft and flavorful with its mascarpone frosting \nCoffee\n\n$145 plus tax and gratuity
URL:https://burkemanor.com/event/alsatian-wine-dinner/
LOCATION:St. Jacques at the Burke Manor\, 303 Burke St\, Gibsonville\, NC\, 27249\, United States
CATEGORIES:Wine Dinners
ORGANIZER;CN="Lil Lacassagne":MAILTO:info@burkemanor.com
END:VEVENT
BEGIN:VEVENT
DTSTART;TZID=America/New_York:20240331T140000
DTEND;TZID=America/New_York:20240331T170000
DTSTAMP:20260424T070818
CREATED:20240203T214108Z
LAST-MODIFIED:20240203T214108Z
UID:10372-1711893600-1711904400@burkemanor.com
SUMMARY:Easter Supper at The Burke Manor Inn
DESCRIPTION:View the menu
URL:https://burkemanor.com/event/easter-supper-at-the-burke-manor-inn/
LOCATION:St. Jacques at the Burke Manor\, 303 Burke St\, Gibsonville\, NC\, 27249\, United States
CATEGORIES:Special Events
ORGANIZER;CN="Lil Lacassagne":MAILTO:info@burkemanor.com
END:VEVENT
BEGIN:VEVENT
DTSTART;TZID=America/New_York:20240224T123000
DTEND;TZID=America/New_York:20240224T153000
DTSTAMP:20260424T070818
CREATED:20240130T015800Z
LAST-MODIFIED:20240130T015800Z
UID:10350-1708777800-1708788600@burkemanor.com
SUMMARY:February Cooking Class Demonstration
DESCRIPTION:Burke Manor Inn cooking class demonstration by Chef/Owner Lil Lacassagne. \nView the menu
URL:https://burkemanor.com/event/february-cooking-class-demonstration/
LOCATION:St. Jacques at the Burke Manor\, 303 Burke St\, Gibsonville\, NC\, 27249\, United States
CATEGORIES:Cooking Demonstrations
ORGANIZER;CN="Lil Lacassagne":MAILTO:info@burkemanor.com
END:VEVENT
BEGIN:VEVENT
DTSTART;TZID=America/New_York:20240224T123000
DTEND;TZID=America/New_York:20240224T153000
DTSTAMP:20260424T070818
CREATED:20240104T225132Z
LAST-MODIFIED:20240108T205452Z
UID:10334-1708777800-1708788600@burkemanor.com
SUMMARY:Cooking Class
DESCRIPTION:**************** \nSalmon & Mushroom en croute \nPan sauce \n**************** \nHomemade Profiteroles \nA true French delicacy! \n************************ \nRecipes and samplings of the above items will be accompanied \n by our special wine selection
URL:https://burkemanor.com/event/cooking-class-5/
LOCATION:St. Jacques at the Burke Manor\, 303 Burke St\, Gibsonville\, NC\, 27249\, United States
CATEGORIES:Cooking Demonstrations
ORGANIZER;CN="Lil Lacassagne":MAILTO:info@burkemanor.com
END:VEVENT
BEGIN:VEVENT
DTSTART;TZID=America/New_York:20240214T170000
DTEND;TZID=America/New_York:20240215T220000
DTSTAMP:20260424T070818
CREATED:20230909T144654Z
LAST-MODIFIED:20230909T144654Z
UID:9919-1707930000-1708034400@burkemanor.com
SUMMARY:Special Valentine's Dinner 2/14 & 2/15
DESCRIPTION:We will be serving a menu specially created by Chef Lil for Valentine’s Dinner.  This will be exclusively offered \non Wednesday\, February 14th & Thursday\, February 15th.
URL:https://burkemanor.com/event/special-valentines-dinner-2-14-2-15/
LOCATION:NC
END:VEVENT
BEGIN:VEVENT
DTSTART;TZID=America/New_York:20240128T123000
DTEND;TZID=America/New_York:20240128T143000
DTSTAMP:20260424T070818
CREATED:20240104T224714Z
LAST-MODIFIED:20240104T224714Z
UID:10331-1706445000-1706452200@burkemanor.com
SUMMARY:Exclusive Burke Bubbly Brunch
DESCRIPTION:Start 2024 off with an amazing meal paired with exceptional. French Sparkling and Champagnes\, organically made at family estates.\nDomains shared with you by Laure Levesque\, “Queen of Wines” & Prepared by Chef/Owner Lil Lacassagne \nView Menu
URL:https://burkemanor.com/event/exclusive-burke-bubbly-brunch/
LOCATION:St. Jacques at the Burke Manor\, 303 Burke St\, Gibsonville\, NC\, 27249\, United States
CATEGORIES:Brunch,St. Jacques @ The Burke Manor
ORGANIZER;CN="Lil Lacassagne":MAILTO:info@burkemanor.com
END:VEVENT
BEGIN:VEVENT
DTSTART;TZID=America/New_York:20231231T170000
DTEND;TZID=America/New_York:20231231T213000
DTSTAMP:20260424T070818
CREATED:20230912T171343Z
LAST-MODIFIED:20231122T180902Z
UID:9935-1704042000-1704058200@burkemanor.com
SUMMARY:New Years Eve Dinner
DESCRIPTION:Join us December 31st for our special Annual New Years Eve Dinner Celebration! \nMake it an exceptional evening and stay over in one of our luxury overnight rooms includes full breakfast in the morning. \nClick here to view the menu
URL:https://burkemanor.com/event/new-years-eve-dinner-2/
LOCATION:St. Jacques at the Burke Manor\, 303 Burke St\, Gibsonville\, NC\, 27249\, United States
CATEGORIES:Special Events
ORGANIZER;CN="Lil Lacassagne":MAILTO:info@burkemanor.com
END:VEVENT
BEGIN:VEVENT
DTSTART;TZID=America/New_York:20231222T170000
DTEND;TZID=America/New_York:20231230T200000
DTSTAMP:20260424T070818
CREATED:20230912T153244Z
LAST-MODIFIED:20231031T143837Z
UID:9932-1703264400-1703966400@burkemanor.com
SUMMARY:Serving Dates the Week of December 24th
DESCRIPTION:We will be closed Friday December 22nd through Saturday December 30th. Have a Merry Christmas!
URL:https://burkemanor.com/event/serving-dates-the-week-of-december-24th/
LOCATION:NC
END:VEVENT
BEGIN:VEVENT
DTSTART;TZID=America/New_York:20231220T170000
DTEND;TZID=America/New_York:20231221T210000
DTSTAMP:20260424T070818
CREATED:20230912T153030Z
LAST-MODIFIED:20230918T224320Z
UID:9930-1703091600-1703192400@burkemanor.com
SUMMARY:Serving Dates the Week of December 17th
DESCRIPTION:We will be serving lunch Thursday December 21st. \nWe will be serving Dinner Wednesday December 20th and Thursday December 21st. \nHave a very Merry Christmas!
URL:https://burkemanor.com/event/serving-dates-the-week-of-december-17th/
LOCATION:NC
END:VEVENT
END:VCALENDAR