BEGIN:VCALENDAR
VERSION:2.0
PRODID:-//The Burke Manor Inn &amp; Pavilion  - ECPv6.15.20//NONSGML v1.0//EN
CALSCALE:GREGORIAN
METHOD:PUBLISH
X-ORIGINAL-URL:https://burkemanor.com
X-WR-CALDESC:Events for The Burke Manor Inn &amp; Pavilion 
REFRESH-INTERVAL;VALUE=DURATION:PT1H
X-Robots-Tag:noindex
X-PUBLISHED-TTL:PT1H
BEGIN:VTIMEZONE
TZID:America/New_York
BEGIN:DAYLIGHT
TZOFFSETFROM:-0500
TZOFFSETTO:-0400
TZNAME:EDT
DTSTART:20230312T070000
END:DAYLIGHT
BEGIN:STANDARD
TZOFFSETFROM:-0400
TZOFFSETTO:-0500
TZNAME:EST
DTSTART:20231105T060000
END:STANDARD
BEGIN:DAYLIGHT
TZOFFSETFROM:-0500
TZOFFSETTO:-0400
TZNAME:EDT
DTSTART:20240310T070000
END:DAYLIGHT
BEGIN:STANDARD
TZOFFSETFROM:-0400
TZOFFSETTO:-0500
TZNAME:EST
DTSTART:20241103T060000
END:STANDARD
BEGIN:DAYLIGHT
TZOFFSETFROM:-0500
TZOFFSETTO:-0400
TZNAME:EDT
DTSTART:20250309T070000
END:DAYLIGHT
BEGIN:STANDARD
TZOFFSETFROM:-0400
TZOFFSETTO:-0500
TZNAME:EST
DTSTART:20251102T060000
END:STANDARD
BEGIN:DAYLIGHT
TZOFFSETFROM:-0500
TZOFFSETTO:-0400
TZNAME:EDT
DTSTART:20260308T070000
END:DAYLIGHT
BEGIN:STANDARD
TZOFFSETFROM:-0400
TZOFFSETTO:-0500
TZNAME:EST
DTSTART:20261101T060000
END:STANDARD
END:VTIMEZONE
BEGIN:VEVENT
DTSTART;TZID=America/New_York:20250501T160000
DTEND;TZID=America/New_York:20250501T173000
DTSTAMP:20260423T175510
CREATED:20250408T164311Z
LAST-MODIFIED:20250408T164311Z
UID:10749-1746115200-1746120600@burkemanor.com
SUMMARY:Wine Tasting Class
DESCRIPTION:This highly demanded event is sure to educate and enlighten you on the intricacies of French Wine. \nChef Lil will be choosing 2 of his favorite reds and 2 of his favorite whites for everyone to sip\, savor and analyze. \n Each wine will be paired with hors d’oeuvres to compliment. \nDiscussion and tips on appropriate foods to enhance wine flavors. \nSpecial pricing will be made available for all wines tasted. \nWe request that cancellations be made 48 hours or more before the event. \nCancellations within 48 hours of event will incur a $25 charge. A credit card may be required to guarantee your spot. \nSpace is limited\, so RSVP early! \n******************* \nMake it a “Get Away” and book at a special offering on one of our overnight packages.  It’s always the right time to stay at the Burke Manor. \n(Remember Chef Lil creates the most amazing breakfasts!) \n*******************
URL:https://burkemanor.com/event/wine-tasting-class/
LOCATION:St. Jacques at the Burke Manor\, 303 Burke St\, Gibsonville\, NC\, 27249\, United States
CATEGORIES:Special Events,St. Jacques @ The Burke Manor
ORGANIZER;CN="Lil Lacassagne":MAILTO:info@burkemanor.com
END:VEVENT
BEGIN:VEVENT
DTSTART;TZID=America/New_York:20250410T183000
DTEND;TZID=America/New_York:20250410T213000
DTSTAMP:20260423T175510
CREATED:20250226T121356Z
LAST-MODIFIED:20250226T121439Z
UID:10699-1744309800-1744320600@burkemanor.com
SUMMARY:Burke Manor Winemaker Dinner
DESCRIPTION:
URL:https://burkemanor.com/event/burke-manor-winemaker-dinner/
LOCATION:St. Jacques at the Burke Manor\, 303 Burke St\, Gibsonville\, NC\, 27249\, United States
CATEGORIES:Wine Dinners
ORGANIZER;CN="Lil Lacassagne":MAILTO:info@burkemanor.com
END:VEVENT
BEGIN:VEVENT
DTSTART;TZID=America/New_York:20250330T120000
DTEND;TZID=America/New_York:20250330T140000
DTSTAMP:20260423T175510
CREATED:20250130T131543Z
LAST-MODIFIED:20250203T172452Z
UID:10682-1743336000-1743343200@burkemanor.com
SUMMARY:Burke Manor Special Brunch
DESCRIPTION:
URL:https://burkemanor.com/event/burke-manor-special-brunch/
LOCATION:St. Jacques at the Burke Manor\, 303 Burke St\, Gibsonville\, NC\, 27249\, United States
CATEGORIES:Brunch
ORGANIZER;CN="Lil Lacassagne":MAILTO:info@burkemanor.com
END:VEVENT
BEGIN:VEVENT
DTSTART;TZID=America/New_York:20250321T170000
DTEND;TZID=America/New_York:20250321T210000
DTSTAMP:20260423T175510
CREATED:20250130T131938Z
LAST-MODIFIED:20250310T084553Z
UID:10684-1742576400-1742590800@burkemanor.com
SUMMARY:No A La Carte Dinner Service
DESCRIPTION:We will not be offering our regular a la carte dinner service due to a private event. We apologize for any inconvenience and look forward to serving you at our next availability!
URL:https://burkemanor.com/event/no-a-la-carte-dinner-service-2/
LOCATION:St. Jacques at the Burke Manor\, 303 Burke St\, Gibsonville\, NC\, 27249\, United States
CATEGORIES:Service Hours,St. Jacques @ The Burke Manor
ORGANIZER;CN="Lil Lacassagne":MAILTO:info@burkemanor.com
END:VEVENT
BEGIN:VEVENT
DTSTART;TZID=America/New_York:20250306T183000
DTEND;TZID=America/New_York:20250306T213000
DTSTAMP:20260423T175510
CREATED:20250130T131459Z
LAST-MODIFIED:20250201T132538Z
UID:10680-1741285800-1741296600@burkemanor.com
SUMMARY:Wine Dinner
DESCRIPTION:﻿
URL:https://burkemanor.com/event/wine-dinner/
LOCATION:St. Jacques at the Burke Manor\, 303 Burke St\, Gibsonville\, NC\, 27249\, United States
CATEGORIES:St. Jacques @ The Burke Manor,Wine Dinners
ORGANIZER;CN="Lil Lacassagne":MAILTO:info@burkemanor.com
END:VEVENT
BEGIN:VEVENT
DTSTART;TZID=America/New_York:20250301T123000
DTEND;TZID=America/New_York:20250301T143000
DTSTAMP:20260423T175510
CREATED:20250130T131408Z
LAST-MODIFIED:20250201T132531Z
UID:10678-1740832200-1740839400@burkemanor.com
SUMMARY:Cooking Demonstration
DESCRIPTION:
URL:https://burkemanor.com/event/cooking-demonstration-2/
LOCATION:St. Jacques at the Burke Manor\, 303 Burke St\, Gibsonville\, NC\, 27249\, United States
ORGANIZER;CN="Lil Lacassagne":MAILTO:info@burkemanor.com
END:VEVENT
BEGIN:VEVENT
DTSTART;TZID=America/New_York:20250227T113000
DTEND;TZID=America/New_York:20250227T140000
DTSTAMP:20260423T175510
CREATED:20250203T172944Z
LAST-MODIFIED:20250203T172944Z
UID:10695-1740655800-1740664800@burkemanor.com
SUMMARY:No A-La-Carte Lunch Service
DESCRIPTION:
URL:https://burkemanor.com/event/no-a-la-carte-lunch-service-7/
LOCATION:St. Jacques at the Burke Manor\, 303 Burke St\, Gibsonville\, NC\, 27249\, United States
CATEGORIES:Service Hours,St. Jacques @ The Burke Manor
END:VEVENT
BEGIN:VEVENT
DTSTART;TZID=America/New_York:20250222T113000
DTEND;TZID=America/New_York:20250222T140000
DTSTAMP:20260423T175510
CREATED:20250130T131244Z
LAST-MODIFIED:20250130T131244Z
UID:10676-1740223800-1740232800@burkemanor.com
SUMMARY:No A-La-Carte Lunch Service
DESCRIPTION:
URL:https://burkemanor.com/event/no-a-la-carte-lunch-service-6/
LOCATION:St. Jacques at the Burke Manor\, 303 Burke St\, Gibsonville\, NC\, 27249\, United States
CATEGORIES:Service Hours,St. Jacques @ The Burke Manor
END:VEVENT
BEGIN:VEVENT
DTSTART;TZID=America/New_York:20250202T123000
DTEND;TZID=America/New_York:20250202T143000
DTSTAMP:20260423T175510
CREATED:20250120T143145Z
LAST-MODIFIED:20250120T143145Z
UID:10670-1738499400-1738506600@burkemanor.com
SUMMARY:Exclusive Bubbly Brunch
DESCRIPTION:
URL:https://burkemanor.com/event/exclusive-bubbly-brunch/
LOCATION:St. Jacques at the Burke Manor\, 303 Burke St\, Gibsonville\, NC\, 27249\, United States
CATEGORIES:Brunch,St. Jacques @ The Burke Manor
ORGANIZER;CN="Lil Lacassagne":MAILTO:info@burkemanor.com
END:VEVENT
BEGIN:VEVENT
DTSTART;TZID=America/New_York:20250130T183000
DTEND;TZID=America/New_York:20250130T213000
DTSTAMP:20260423T175510
CREATED:20250116T200511Z
LAST-MODIFIED:20250116T200511Z
UID:10667-1738261800-1738272600@burkemanor.com
SUMMARY:Champagne Dinner
DESCRIPTION:
URL:https://burkemanor.com/event/champagne-dinner/
LOCATION:St. Jacques at the Burke Manor\, 303 Burke St\, Gibsonville\, NC\, 27249\, United States
CATEGORIES:Special Events,St. Jacques @ The Burke Manor,Wine Dinners
ORGANIZER;CN="Lil Lacassagne":MAILTO:info@burkemanor.com
END:VEVENT
BEGIN:VEVENT
DTSTART;TZID=America/New_York:20250125T123000
DTEND;TZID=America/New_York:20250125T143000
DTSTAMP:20260423T175510
CREATED:20250106T222322Z
LAST-MODIFIED:20250106T222322Z
UID:10649-1737808200-1737815400@burkemanor.com
SUMMARY:January Cooking Demonstration
DESCRIPTION:
URL:https://burkemanor.com/event/january-cooking-demonstration/
LOCATION:St. Jacques at the Burke Manor\, 303 Burke St\, Gibsonville\, NC\, 27249\, United States
CATEGORIES:Cooking Demonstrations
ORGANIZER;CN="Lil Lacassagne":MAILTO:info@burkemanor.com
END:VEVENT
BEGIN:VEVENT
DTSTART;TZID=America/New_York:20250102T113000
DTEND;TZID=America/New_York:20250102T140000
DTSTAMP:20260423T175510
CREATED:20241224T132424Z
LAST-MODIFIED:20241224T132424Z
UID:10646-1735817400-1735826400@burkemanor.com
SUMMARY:No A-La-Carte Lunch Service
DESCRIPTION:
URL:https://burkemanor.com/event/no-a-la-carte-lunch-service-5/
LOCATION:NC
CATEGORIES:Service Hours,St. Jacques @ The Burke Manor
END:VEVENT
BEGIN:VEVENT
DTSTART;TZID=America/New_York:20241231T173000
DTEND;TZID=America/New_York:20241231T233000
DTSTAMP:20260423T175510
CREATED:20241202T120400Z
LAST-MODIFIED:20241202T120400Z
UID:10637-1735666200-1735687800@burkemanor.com
SUMMARY:Annual New Years Eve Dinner
DESCRIPTION:
URL:https://burkemanor.com/event/annual-new-years-eve-dinner-2/
LOCATION:St. Jacques at the Burke Manor\, 303 Burke St\, Gibsonville\, NC\, 27249\, United States
CATEGORIES:St. Jacques @ The Burke Manor
ORGANIZER;CN="Lil Lacassagne":MAILTO:info@burkemanor.com
END:VEVENT
BEGIN:VEVENT
DTSTART;TZID=America/New_York:20241222T120000
DTEND;TZID=America/New_York:20241222T140000
DTSTAMP:20260423T175510
CREATED:20240808T210454Z
LAST-MODIFIED:20240808T210454Z
UID:10526-1734868800-1734876000@burkemanor.com
SUMMARY:Burke Manor Inn Brunch
DESCRIPTION:
URL:https://burkemanor.com/event/burke-manor-inn-brunch-6/
LOCATION:NC
CATEGORIES:Brunch
ORGANIZER;CN="Lil Lacassagne":MAILTO:info@burkemanor.com
END:VEVENT
BEGIN:VEVENT
DTSTART;TZID=America/New_York:20241215T120000
DTEND;TZID=America/New_York:20241215T140000
DTSTAMP:20260423T175510
CREATED:20240808T210154Z
LAST-MODIFIED:20240808T210339Z
UID:10524-1734264000-1734271200@burkemanor.com
SUMMARY:Burke Manor Inn Brunch
DESCRIPTION:
URL:https://burkemanor.com/event/burke-manor-inn-brunch-5/
LOCATION:St. Jacques at the Burke Manor\, 303 Burke St\, Gibsonville\, NC\, 27249\, United States
ORGANIZER;CN="Lil Lacassagne":MAILTO:info@burkemanor.com
END:VEVENT
BEGIN:VEVENT
DTSTART;TZID=America/New_York:20241208T120000
DTEND;TZID=America/New_York:20241208T140000
DTSTAMP:20260423T175510
CREATED:20240808T205938Z
LAST-MODIFIED:20240808T210809Z
UID:10521-1733659200-1733666400@burkemanor.com
SUMMARY:Burke Manor Inn Brunch
DESCRIPTION:
URL:https://burkemanor.com/event/burke-manor-inn-brunch-4/
LOCATION:St. Jacques at the Burke Manor\, 303 Burke St\, Gibsonville\, NC\, 27249\, United States
CATEGORIES:Brunch
ORGANIZER;CN="Lil Lacassagne":MAILTO:info@burkemanor.com
END:VEVENT
BEGIN:VEVENT
DTSTART;VALUE=DATE:20241127
DTEND;VALUE=DATE:20241130
DTSTAMP:20260423T175510
CREATED:20241026T121537Z
LAST-MODIFIED:20241026T121555Z
UID:10611-1732665600-1732924799@burkemanor.com
SUMMARY:No A La Carte Service
DESCRIPTION:Due to the Thanksgiving Holiday\, we will not be offering our usual a-la-carte lunch or dinner services. We apologize for any inconvenience this may cause and thank you for your understanding. Our team is dedicated to making these special moments unforgettable for our guests\, and we hope to welcome you back soon for a delicious meal and warm hospitality! \nThank you for your continued support! We can’t wait to see you soon!
URL:https://burkemanor.com/event/no-a-la-carte-service-2/
LOCATION:St. Jacques at the Burke Manor\, 303 Burke St\, Gibsonville\, NC\, 27249\, United States
CATEGORIES:Service Hours,St. Jacques @ The Burke Manor
END:VEVENT
BEGIN:VEVENT
DTSTART;TZID=America/New_York:20241124T120000
DTEND;TZID=America/New_York:20241124T140000
DTSTAMP:20260423T175510
CREATED:20240808T205626Z
LAST-MODIFIED:20240808T210636Z
UID:10519-1732449600-1732456800@burkemanor.com
SUMMARY:Burke Manor Inn Brunch
DESCRIPTION:
URL:https://burkemanor.com/event/burke-manor-inn-brunch-3/
LOCATION:St. Jacques at the Burke Manor\, 303 Burke St\, Gibsonville\, NC\, 27249\, United States
CATEGORIES:Brunch
ORGANIZER;CN="Lil Lacassagne":MAILTO:info@burkemanor.com
END:VEVENT
BEGIN:VEVENT
DTSTART;TZID=America/New_York:20241122T173000
DTEND;TZID=America/New_York:20241122T213000
DTSTAMP:20260423T175510
CREATED:20241026T121412Z
LAST-MODIFIED:20241026T121412Z
UID:10609-1732296600-1732311000@burkemanor.com
SUMMARY:Gibsonville Lighting of the Greens
DESCRIPTION:Join us as we come together in our community for the annual Lighting of the Greens in downtown Gibsonville in celebration of the Christmas season.
URL:https://burkemanor.com/event/gibsonville-lighting-of-the-greens/
LOCATION:NC
CATEGORIES:Community Event
END:VEVENT
BEGIN:VEVENT
DTSTART;TZID=America/New_York:20241121T183000
DTEND;TZID=America/New_York:20241121T210000
DTSTAMP:20260423T175510
CREATED:20241026T120749Z
LAST-MODIFIED:20241026T121139Z
UID:10606-1732213800-1732222800@burkemanor.com
SUMMARY:Beaujolais Nouveau Wine Dinner
DESCRIPTION:
URL:https://burkemanor.com/event/beaujolais-nouveau-wine-dinner/
LOCATION:St. Jacques at the Burke Manor\, 303 Burke St\, Gibsonville\, NC\, 27249\, United States
CATEGORIES:Wine Dinners
ORGANIZER;CN="Lil Lacassagne":MAILTO:info@burkemanor.com
END:VEVENT
BEGIN:VEVENT
DTSTART;VALUE=DATE:20241120
DTEND;VALUE=DATE:20241121
DTSTAMP:20260423T175510
CREATED:20241026T120605Z
LAST-MODIFIED:20241026T120605Z
UID:10604-1732060800-1732147199@burkemanor.com
SUMMARY:NC Wine Guy Podcast Release
DESCRIPTION:Listen to Chef Lil’s exclusive interview that took place after the Jones von Drehle dinner in August with NC Wine Guy.
URL:https://burkemanor.com/event/nc-wine-guy-podcast-release/
LOCATION:NC
ORGANIZER;CN="Lil Lacassagne":MAILTO:info@burkemanor.com
END:VEVENT
BEGIN:VEVENT
DTSTART;TZID=America/New_York:20241115T113000
DTEND;TZID=America/New_York:20241115T140000
DTSTAMP:20260423T175510
CREATED:20241026T120450Z
LAST-MODIFIED:20241026T120450Z
UID:10602-1731670200-1731679200@burkemanor.com
SUMMARY:No A La Carte Lunch Service
DESCRIPTION:Due to a private event\, we will not be offering our usual a-la-carte lunch service today. We apologize for any inconvenience this may cause and thank you for your understanding. Our team is dedicated to making these special moments unforgettable for our guests\, and we hope to welcome you back soon for a delicious meal and warm hospitality! \n  \nThank you for your continued support! We can’t wait to see you soon!
URL:https://burkemanor.com/event/no-a-la-carte-lunch-service-4/
LOCATION:St. Jacques at the Burke Manor\, 303 Burke St\, Gibsonville\, NC\, 27249\, United States
END:VEVENT
BEGIN:VEVENT
DTSTART;VALUE=DATE:20241114
DTEND;VALUE=DATE:20241115
DTSTAMP:20260423T175510
CREATED:20241026T120402Z
LAST-MODIFIED:20241026T120402Z
UID:10600-1731542400-1731628799@burkemanor.com
SUMMARY:No A La Carte Lunch or Dinner Service
DESCRIPTION:Due to a private event\, we will not be offering our usual a-la-carte lunch or dinner service today. We apologize for any inconvenience this may cause and thank you for your understanding. Our team is dedicated to making these special moments unforgettable for our guests\, and we hope to welcome you back soon for a delicious meal and warm hospitality! \n  \nThank you for your continued support! We can’t wait to see you soon!
URL:https://burkemanor.com/event/no-a-la-carte-lunch-or-dinner-service-2/
LOCATION:St. Jacques at the Burke Manor\, 303 Burke St\, Gibsonville\, NC\, 27249\, United States
END:VEVENT
BEGIN:VEVENT
DTSTART;TZID=America/New_York:20241113T170000
DTEND;TZID=America/New_York:20241113T210000
DTSTAMP:20260423T175510
CREATED:20241026T120319Z
LAST-MODIFIED:20241026T120319Z
UID:10598-1731517200-1731531600@burkemanor.com
SUMMARY:No A La Carte Dinner Service
DESCRIPTION:Due to a private event\, we will not be offering our usual a-la-carte dinner service tonight. We apologize for any inconvenience this may cause and thank you for your understanding. Our team is dedicated to making these special moments unforgettable for our guests\, and we hope to welcome you back soon for a delicious meal and warm hospitality! \nThank you for your continued support! We can’t wait to see you soon!
URL:https://burkemanor.com/event/no-a-la-carte-dinner-service/
LOCATION:St. Jacques at the Burke Manor\, 303 Burke St\, Gibsonville\, NC\, 27249\, United States
END:VEVENT
BEGIN:VEVENT
DTSTART;TZID=America/New_York:20241109T120000
DTEND;TZID=America/New_York:20241109T140000
DTSTAMP:20260423T175510
CREATED:20241026T120040Z
LAST-MODIFIED:20241026T120040Z
UID:10593-1731153600-1731160800@burkemanor.com
SUMMARY:Nancy Naigle Book Signing
DESCRIPTION:Join us as we meet with this USA Today Bestselling author of numerous books with movie adaptations on the Hallmark Channel.
URL:https://burkemanor.com/event/nancy-naigle-book-signing/
LOCATION:The Pavilion\, 303 Burke St\, Gibsonville\, NC\, 27249\, United States
END:VEVENT
BEGIN:VEVENT
DTSTART;VALUE=DATE:20241101
DTEND;VALUE=DATE:20241102
DTSTAMP:20260423T175510
CREATED:20241026T120204Z
LAST-MODIFIED:20241026T120204Z
UID:10596-1730419200-1730505599@burkemanor.com
SUMMARY:No A La Carte Lunch or Dinner Service
DESCRIPTION:Due to a private event\, we will not be offering our usual a-la-carte lunch or dinner service today. We apologize for any inconvenience this may cause and thank you for your understanding. Our team is dedicated to making these special moments unforgettable for our guests\, and we hope to welcome you back soon for a delicious meal and warm hospitality! \n  \nThank you for your continued support! We can’t wait to see you soon!
URL:https://burkemanor.com/event/no-a-la-carte-lunch-or-dinner-service/
LOCATION:NC
END:VEVENT
BEGIN:VEVENT
DTSTART;TZID=America/New_York:20241027T120000
DTEND;TZID=America/New_York:20241027T140000
DTSTAMP:20260423T175510
CREATED:20240808T205415Z
LAST-MODIFIED:20240808T210549Z
UID:10517-1730030400-1730037600@burkemanor.com
SUMMARY:Burke Manor Inn Brunch
DESCRIPTION:
URL:https://burkemanor.com/event/burke-manor-inn-brunch-2/
LOCATION:St. Jacques at the Burke Manor\, 303 Burke St\, Gibsonville\, NC\, 27249\, United States
CATEGORIES:Brunch
ORGANIZER;CN="Lil Lacassagne":MAILTO:info@burkemanor.com
END:VEVENT
BEGIN:VEVENT
DTSTART;TZID=America/New_York:20241016T153000
DTEND;TZID=America/New_York:20241016T163000
DTSTAMP:20260423T175510
CREATED:20241011T210233Z
LAST-MODIFIED:20241011T210233Z
UID:10587-1729092600-1729096200@burkemanor.com
SUMMARY:2025 Trip Information Session
DESCRIPTION:Join Chef Lil & Lori at the Burke Manor Inn for the first informational session regarding Lil’s 2025 Exciting Adventures to France!
URL:https://burkemanor.com/event/2025-trip-information-session/
LOCATION:The Burke Manor Inn & Pavilion\, 303 Burke St\, Gibsonville\, NC\, 27249\, United States
ORGANIZER;CN="Lil Lacassagne":MAILTO:info@burkemanor.com
END:VEVENT
BEGIN:VEVENT
DTSTART;TZID=America/New_York:20241003T183000
DTEND;TZID=America/New_York:20241003T213000
DTSTAMP:20260423T175510
CREATED:20240512T160346Z
LAST-MODIFIED:20240808T211017Z
UID:10463-1727980200-1727991000@burkemanor.com
SUMMARY:“Chef Lil’s Favorites”  Wine Dinner
DESCRIPTION:
URL:https://burkemanor.com/event/chef-lils-favorites-wine-dinner/
LOCATION:St. Jacques at the Burke Manor\, 303 Burke St\, Gibsonville\, NC\, 27249\, United States
CATEGORIES:Wine Dinners
ORGANIZER;CN="Lil Lacassagne":MAILTO:info@burkemanor.com
END:VEVENT
BEGIN:VEVENT
DTSTART;TZID=America/New_York:20240921T123000
DTEND;TZID=America/New_York:20240921T153000
DTSTAMP:20260423T175510
CREATED:20240512T160746Z
LAST-MODIFIED:20240716T202057Z
UID:10465-1726921800-1726932600@burkemanor.com
SUMMARY:September Cooking Demonstration
DESCRIPTION:
URL:https://burkemanor.com/event/september-cooking-demonstration/
LOCATION:St. Jacques at the Burke Manor\, 303 Burke St\, Gibsonville\, NC\, 27249\, United States
CATEGORIES:Cooking Demonstrations
ORGANIZER;CN="Lil Lacassagne":MAILTO:info@burkemanor.com
END:VEVENT
END:VCALENDAR