BEGIN:VCALENDAR
VERSION:2.0
PRODID:-//The Burke Manor Inn &amp; Pavilion  - ECPv6.15.20//NONSGML v1.0//EN
CALSCALE:GREGORIAN
METHOD:PUBLISH
X-WR-CALNAME:The Burke Manor Inn &amp; Pavilion 
X-ORIGINAL-URL:https://burkemanor.com
X-WR-CALDESC:Events for The Burke Manor Inn &amp; Pavilion 
REFRESH-INTERVAL;VALUE=DURATION:PT1H
X-Robots-Tag:noindex
X-PUBLISHED-TTL:PT1H
BEGIN:VTIMEZONE
TZID:America/New_York
BEGIN:DAYLIGHT
TZOFFSETFROM:-0500
TZOFFSETTO:-0400
TZNAME:EDT
DTSTART:20210314T070000
END:DAYLIGHT
BEGIN:STANDARD
TZOFFSETFROM:-0400
TZOFFSETTO:-0500
TZNAME:EST
DTSTART:20211107T060000
END:STANDARD
BEGIN:DAYLIGHT
TZOFFSETFROM:-0500
TZOFFSETTO:-0400
TZNAME:EDT
DTSTART:20220313T070000
END:DAYLIGHT
BEGIN:STANDARD
TZOFFSETFROM:-0400
TZOFFSETTO:-0500
TZNAME:EST
DTSTART:20221106T060000
END:STANDARD
BEGIN:DAYLIGHT
TZOFFSETFROM:-0500
TZOFFSETTO:-0400
TZNAME:EDT
DTSTART:20230312T070000
END:DAYLIGHT
BEGIN:STANDARD
TZOFFSETFROM:-0400
TZOFFSETTO:-0500
TZNAME:EST
DTSTART:20231105T060000
END:STANDARD
END:VTIMEZONE
BEGIN:VEVENT
DTSTART;TZID=America/New_York:20221030T080000
DTEND;TZID=America/New_York:20221105T210000
DTSTAMP:20260425T104509
CREATED:20220921T154733Z
LAST-MODIFIED:20221029T222905Z
UID:8842-1667116800-1667682000@burkemanor.com
SUMMARY:Serving Dates the Week of October 30
DESCRIPTION:We are serving lunch  and dinner Thursday\, November 3rd through Saturday\, November 5th. \n 
URL:https://burkemanor.com/event/serving-dates-the-week-of-october-30/
END:VEVENT
BEGIN:VEVENT
DTSTART;TZID=America/New_York:20221023T080000
DTEND;TZID=America/New_York:20221029T210000
DTSTAMP:20260425T104509
CREATED:20220921T154553Z
LAST-MODIFIED:20220921T154553Z
UID:8840-1666512000-1667077200@burkemanor.com
SUMMARY:Serving Dates the Week of October 23
DESCRIPTION:We are serving lunch Thursday\, October 27th and Friday\, October 28th. \nWe are serving dinner Wednesday\, October 26th through Saturday\, October 29th. See you then!
URL:https://burkemanor.com/event/serving-dates-the-week-of-october-23/
END:VEVENT
BEGIN:VEVENT
DTSTART;TZID=America/New_York:20221016T080000
DTEND;TZID=America/New_York:20221022T210000
DTSTAMP:20260425T104509
CREATED:20220921T153016Z
LAST-MODIFIED:20220921T154401Z
UID:8831-1665907200-1666472400@burkemanor.com
SUMMARY:Serving Dates the Week of October 16
DESCRIPTION:We will serve lunch Thursday\, October 20th and Friday\, October 21st. \nWe will serve dinner Thursday\, October 20th and Friday\, October 21st. See you then!
URL:https://burkemanor.com/event/serving-dates-the-week-of-october-16/
END:VEVENT
BEGIN:VEVENT
DTSTART;TZID=America/New_York:20221009T080000
DTEND;TZID=America/New_York:20221015T210000
DTSTAMP:20260425T104509
CREATED:20220917T214724Z
LAST-MODIFIED:20220921T154341Z
UID:8824-1665302400-1665867600@burkemanor.com
SUMMARY:Serving Dates the Week of October 9
DESCRIPTION:We will serve lunch Thursday\, October 13th – Saturday\, October 15. \nWe will serve dinner Thursday\, October 13th – Saturday\, October 15. See you then!
URL:https://burkemanor.com/event/serving-dates-the-week-of-october-9/
END:VEVENT
BEGIN:VEVENT
DTSTART;TZID=America/New_York:20221002T080000
DTEND;TZID=America/New_York:20221008T210000
DTSTAMP:20260425T104509
CREATED:20220916T220719Z
LAST-MODIFIED:20220921T154306Z
UID:8819-1664697600-1665262800@burkemanor.com
SUMMARY:Serving Dates the Week of October 2
DESCRIPTION:We will serve lunch Thursday\, October sixth. \nWe will serve dinner Wednesday\, October fifth through Saturday\, October eighth. See you then!
URL:https://burkemanor.com/event/serving-dates-the-week-of-october-2/
END:VEVENT
BEGIN:VEVENT
DTSTART;VALUE=DATE:20220930
DTEND;VALUE=DATE:20221003
DTSTAMP:20260425T104509
CREATED:20220322T190244Z
LAST-MODIFIED:20220420T180247Z
UID:8115-1664496000-1664755199@burkemanor.com
SUMMARY:Elon Parent's Weekend 2022 -- We are fully booked!
DESCRIPTION:If you’d like to be added to our waitlist\, please give us a call at 336-449-6266.
URL:https://burkemanor.com/event/we-are-fully-booked-for-elons-parents-weekend-2022/
END:VEVENT
BEGIN:VEVENT
DTSTART;TZID=America/New_York:20220925T080000
DTEND;TZID=America/New_York:20221001T210000
DTSTAMP:20260425T104509
CREATED:20220916T215743Z
LAST-MODIFIED:20220921T154244Z
UID:8817-1664092800-1664658000@burkemanor.com
SUMMARY:Serving Dates the Week of September 25
DESCRIPTION:We will serve lunch Thursday\, September 29th through Saturday\, October first. \nWe will serve dinner Wednesday\, September 28th through Saturday\, October first. See you then!
URL:https://burkemanor.com/event/serving-dates-the-week-of-september-25/
END:VEVENT
BEGIN:VEVENT
DTSTART;TZID=America/New_York:20220918T120000
DTEND;TZID=America/New_York:20220918T143000
DTSTAMP:20260425T104509
CREATED:20220729T230601Z
LAST-MODIFIED:20220729T230601Z
UID:8539-1663502400-1663511400@burkemanor.com
SUMMARY:September Brunch with Local Fares
DESCRIPTION:Join us as we celebrate local businesses\, such as Gibsonville’s own Smith Farms\, Iron Bell Farm\, Smidgen\, Blueberry Thrill\, and more! \nChef Lil has curated a special\, local-inspired brunch to showcase their products! \nReservations are required. We request all cancelations be made 48 hours in advance of the event. Any cancelations within the 48 hour period will incur a $25 fee
URL:https://burkemanor.com/event/september-brunch-with-local-fares/
END:VEVENT
BEGIN:VEVENT
DTSTART;TZID=America/New_York:20220918T080000
DTEND;TZID=America/New_York:20220924T210000
DTSTAMP:20260425T104509
CREATED:20220916T215533Z
LAST-MODIFIED:20220916T215533Z
UID:8815-1663488000-1664053200@burkemanor.com
SUMMARY:Serving Dates the Week of September 18
DESCRIPTION:We will be serving lunch Thursday\, September 22nd and Friday\, September 23rd. \nWe will be serving dinner Thursday\, September 22nd through Saturday\, September 24th. See you then!
URL:https://burkemanor.com/event/serving-dates-the-week-of-september-18/
END:VEVENT
BEGIN:VEVENT
DTSTART;TZID=America/New_York:20220917T123000
DTEND;TZID=America/New_York:20220917T143000
DTSTAMP:20260425T104509
CREATED:20220729T230359Z
LAST-MODIFIED:20220729T230450Z
UID:8535-1663417800-1663425000@burkemanor.com
SUMMARY:September Cooking Class with Local Fares
DESCRIPTION:Join us as we celebrate local businesses\, such as Gibsonville’s own Smith Farms\, Iron Bell Farm\, Smidgen\, Blueberry Thrill\, and more! \nChef Lil has curated a special\, local-inspired cooking class to showcase their products and how to best utilize them! \nReservations are required. We request all cancelations be made 48 hours in advance of the event. Any cancelations within the 48 hour period will incur a $25 fee.
URL:https://burkemanor.com/event/september-cooking-class-with-special-fares/
END:VEVENT
BEGIN:VEVENT
DTSTART;TZID=America/New_York:20220915T183000
DTEND;TZID=America/New_York:20220915T210000
DTSTAMP:20260425T104509
CREATED:20220729T230142Z
LAST-MODIFIED:20220729T230416Z
UID:8529-1663266600-1663275600@burkemanor.com
SUMMARY:September Wine Dinner with Local Fares
DESCRIPTION:Join us as we celebrate local businesses\, such as Gibsonville’s own Toasty Kettlyst\, The Grove\, Smith Farms\, Iron Bell Farm\, Smidgen\, Blueberry Thrill\, and more at our September Wine Dinner! \nChef Lil has curated a special\, local-inspired menu\, featuring their products and special pairings! \nReservations are required. We request all cancelations be made 48 hours in advance of the event. Any cancelations within the 48 hour period will incur a $25 fee.
URL:https://burkemanor.com/event/september-wine-dinner-with-local-fares/
END:VEVENT
BEGIN:VEVENT
DTSTART;VALUE=DATE:20220915
DTEND;VALUE=DATE:20220916
DTSTAMP:20260425T104509
CREATED:20220826T193508Z
LAST-MODIFIED:20220826T193746Z
UID:8732-1663200000-1663286399@burkemanor.com
SUMMARY:No A La Carte Lunch Service 9/15
DESCRIPTION:Our fine dining restaurant will not be offering a la carte lunch service on Thursday\, September 15th due to a private event.
URL:https://burkemanor.com/event/no-a-la-carte-lunch-service-9-15/
END:VEVENT
BEGIN:VEVENT
DTSTART;VALUE=DATE:20220914
DTEND;VALUE=DATE:20220915
DTSTAMP:20260425T104509
CREATED:20220826T193425Z
LAST-MODIFIED:20220826T195901Z
UID:8730-1663113600-1663199999@burkemanor.com
SUMMARY:No A La Carte Dinner Service 9/14
DESCRIPTION:Our fine dining restaurant will not be offering a la carte service on Wednesday\, September 14th due to a private event.
URL:https://burkemanor.com/event/no-a-la-carte-dinner-service-9-14/
END:VEVENT
BEGIN:VEVENT
DTSTART;TZID=America/New_York:20220831T170000
DTEND;TZID=America/New_York:20220831T210000
DTSTAMP:20260425T104509
CREATED:20220602T174830Z
LAST-MODIFIED:20220602T174830Z
UID:8335-1661965200-1661979600@burkemanor.com
SUMMARY:No A La Carte Dinner Service 8/31
DESCRIPTION:Our fine dining restaurant will not be offering a la carte dinner service on Wednesday\, August 31st due to a private event.
URL:https://burkemanor.com/event/no-a-la-carte-dinner-service-8-31/
END:VEVENT
BEGIN:VEVENT
DTSTART;TZID=America/New_York:20220827T190000
DTEND;TZID=America/New_York:20220827T223000
DTSTAMP:20260425T104509
CREATED:20220316T194359Z
LAST-MODIFIED:20220415T005314Z
UID:8106-1661626800-1661639400@burkemanor.com
SUMMARY:The Burke Manor Pavilion Presents: 70s Dance Party!
DESCRIPTION:Break out those bellbottoms\, your favorite patterned shirt\, and those chunky\, leather boots\, because we are hosting a 70s Dance Night! Featuring classic Disco music\, hors d’oeuvres\, and a cash bar\, you’ll be sure to dance the night away! \nEntry is $20 per person. To reserve your spot\, visit the “event registration” tab at the top of the page. (https://burkemanor.com/event-registration/)
URL:https://burkemanor.com/event/the-burke-manor-pavilion-presents-70s-dance-party/
END:VEVENT
BEGIN:VEVENT
DTSTART;VALUE=DATE:20220827
DTEND;VALUE=DATE:20220828
DTSTAMP:20260425T104509
CREATED:20220706T145509Z
LAST-MODIFIED:20220706T145607Z
UID:8433-1661558400-1661644799@burkemanor.com
SUMMARY:No A La Carte Service 8/27
DESCRIPTION:Our fine dining restaurant will not be offering a la carte service on Saturday\, August 27th due to our 70’s Dance Party.
URL:https://burkemanor.com/event/no-a-la-carte-service-8-27/
END:VEVENT
BEGIN:VEVENT
DTSTART;TZID=America/New_York:20220807T123000
DTEND;TZID=America/New_York:20220807T143000
DTSTAMP:20260425T104509
CREATED:20220706T150626Z
LAST-MODIFIED:20220729T185130Z
UID:8443-1659875400-1659882600@burkemanor.com
SUMMARY:A Julia Child Inspired Champagne Brunch
DESCRIPTION:To celebrate the chef who brought French cooking to America\, we are hosting a Julia Child-inspired brunch on Sunday\, August seventh at 12:30pm! Chef Lil’s curated menu highlights Child’s most well-known dishes\, transporting you back to the time of The French Chef. \nReservations required. Please call 336 449 6266 to reserve your table. \nWe request all cancelations be made over 48 hours in advance. If cancelling within a 48-hour timeframe of event\, a $25 fee applies. \n  \n \n  \n  \n 
URL:https://burkemanor.com/event/a-julia-child-inspired-brunch/
END:VEVENT
BEGIN:VEVENT
DTSTART;TZID=America/New_York:20220806T123000
DTEND;TZID=America/New_York:20220806T143000
DTSTAMP:20260425T104509
CREATED:20220706T150443Z
LAST-MODIFIED:20220709T214252Z
UID:8440-1659789000-1659796200@burkemanor.com
SUMMARY:A Julia Child Inspired Cooking Class
DESCRIPTION:To celebrate the chef who brought French cooking to America\, we are hosting a Julia Child-inspired cooking class! Chef Lil’s special class highlights Child’s most well-known dishes\, transporting you back to the time of The French Chef. \nReservations required. Please call 336 449 6266 to reserve your spots. \nWe request all cancelations be made over 48 hours in advance. If cancelling within a 48-hour timeframe of event\, a $25 fee applies.
URL:https://burkemanor.com/event/a-julia-child-inspired-cooking-class/
END:VEVENT
BEGIN:VEVENT
DTSTART;TZID=America/New_York:20220804T190000
DTEND;TZID=America/New_York:20220804T220000
DTSTAMP:20260425T104509
CREATED:20220706T150206Z
LAST-MODIFIED:20220709T214309Z
UID:8438-1659639600-1659650400@burkemanor.com
SUMMARY:A Julia Child Inspired Wine Dinner
DESCRIPTION:To celebrate the chef who brought French cooking to America\, we are hosting a Julia Child-inspired wine dinner on Thursday\, August fourth at 7:00pm! Chef Lil’s curated menu highlights Child’s most well-known dishes\, transporting you back to the time of The French Chef. \nReservations required. Please call 336 449 6266 to reserve your table. \nWe request all cancelations be made over 48 hours in advance. If cancelling within a 48-hour timeframe of event\, a $25 fee applies.
URL:https://burkemanor.com/event/a-julia-child-inspired-wine-dinner/
END:VEVENT
BEGIN:VEVENT
DTSTART;VALUE=DATE:20220720
DTEND;VALUE=DATE:20220721
DTSTAMP:20260425T104509
CREATED:20220623T145121Z
LAST-MODIFIED:20220623T145220Z
UID:8415-1658275200-1658361599@burkemanor.com
SUMMARY:No A La Carte Dinner Service 7/20
DESCRIPTION:Our fine dining restaurant will not be offering a la carte dinner service on Wednesday\, June 20th due to a private event.
URL:https://burkemanor.com/event/no-a-la-carte-dinner-service-7-20/
END:VEVENT
BEGIN:VEVENT
DTSTART;TZID=America/New_York:20220716T123000
DTEND;TZID=America/New_York:20220716T143000
DTSTAMP:20260425T104509
CREATED:20220304T233024Z
LAST-MODIFIED:20220610T205817Z
UID:8074-1657974600-1657981800@burkemanor.com
SUMMARY:Bastille Day Cooking Class
DESCRIPTION:Continue to celebrate Bastille Day with a special cooking class on Saturday\, July 16th at 12:30pm! \nWe request that cancellations be made over 48 hours before the event. Cancellations within 48 hours of event will incur a $25 charge. \n \n 
URL:https://burkemanor.com/event/bastille-day-cooking-class/
END:VEVENT
BEGIN:VEVENT
DTSTART;TZID=America/New_York:20220714T190000
DTEND;TZID=America/New_York:20220714T213000
DTSTAMP:20260425T104509
CREATED:20220304T232922Z
LAST-MODIFIED:20220304T232922Z
UID:8071-1657825200-1657834200@burkemanor.com
SUMMARY:Bastille Day Celebration Dinner
DESCRIPTION:Celebrate the National Day of France with a special Bastille Day dinner on Thursday\, July 14th! Start the evening off at 6:45pm with hors d’oeuvres and Sangria cocktails in the garden\, then head to the dining rooms for dinner at 7:15pm. \nWe request that cancellations be made over 48 hours before the event. Cancellations within 48 hours of event will incur a $25 charge.
URL:https://burkemanor.com/event/bastille-day-celebration-dinner/
END:VEVENT
BEGIN:VEVENT
DTSTART;VALUE=DATE:20220713
DTEND;VALUE=DATE:20220714
DTSTAMP:20260425T104509
CREATED:20220614T143606Z
LAST-MODIFIED:20220614T143650Z
UID:8382-1657670400-1657756799@burkemanor.com
SUMMARY:No A La Carte Dinner Service 7/13
DESCRIPTION:Our fine dining restaurant will not be offering a la carte dinner service on Wednesday\, July 13th due to a private event.
URL:https://burkemanor.com/event/no-a-la-carte-7-13/
END:VEVENT
BEGIN:VEVENT
DTSTART;VALUE=DATE:20220708
DTEND;VALUE=DATE:20220709
DTSTAMP:20260425T104509
CREATED:20220602T174535Z
LAST-MODIFIED:20220602T174535Z
UID:8331-1657238400-1657324799@burkemanor.com
SUMMARY:Normal A La Carte Service Resumes 7/8
DESCRIPTION:Chef Lil and his travelers are back from France! Normal a la carte service will resume Friday\, July 8th at 11:30am for lunch.
URL:https://burkemanor.com/event/normal-a-la-carte-service-resumes-7-8/
END:VEVENT
BEGIN:VEVENT
DTSTART;TZID=America/New_York:20220626T080000
DTEND;TZID=America/New_York:20220705T170000
DTSTAMP:20260425T104509
CREATED:20210807T173715Z
LAST-MODIFIED:20210807T173715Z
UID:7126-1656230400-1657040400@burkemanor.com
SUMMARY:South of France Group Trip
DESCRIPTION:Annual Group trip to France – South of France Region
URL:https://burkemanor.com/event/amazing-trip-to-the-french-riviera/
END:VEVENT
BEGIN:VEVENT
DTSTART;TZID=America/New_York:20220620T080000
DTEND;TZID=America/New_York:20220620T170000
DTSTAMP:20260425T104509
CREATED:20220620T183203Z
LAST-MODIFIED:20220620T183203Z
UID:8406-1655712000-1655744400@burkemanor.com
SUMMARY:Julia Child-Inspired Cooking Class
DESCRIPTION:To celebrate Julia Child and her impact on the culinary world\, we will be hosting an inspired cooking class on August sixth at 12:30pm. Chef Lil will demonstrate how to prepare and cook one of her many famous dishes. Full menu to come!
URL:https://burkemanor.com/event/julia-child-inspired-cooking-class-2/
END:VEVENT
BEGIN:VEVENT
DTSTART;TZID=America/New_York:20220615T080000
DTEND;TZID=America/New_York:20220707T210000
DTSTAMP:20260425T104509
CREATED:20220527T224618Z
LAST-MODIFIED:20220527T224618Z
UID:8313-1655280000-1657227600@burkemanor.com
SUMMARY:No A La Carte Service 6/15 - 7/7
DESCRIPTION:Due to Chef Lil’s Extraordinary Adventures to France\, our fine dining restaurant will be closed from Wednesday\, June 15th until Thursday\, July 7th. Normal a la carte service will resume on Friday\, July 8th.
URL:https://burkemanor.com/event/no-a-la-carte-service-6-15-7-7/
END:VEVENT
BEGIN:VEVENT
DTSTART;TZID=America/New_York:20220613T080000
DTEND;TZID=America/New_York:20220622T170000
DTSTAMP:20260425T104509
CREATED:20210819T220118Z
LAST-MODIFIED:20210819T220118Z
UID:7141-1655107200-1655917200@burkemanor.com
SUMMARY:Normandy France Group Trip
DESCRIPTION:Group trip to France Departing June 13th-22nd\, 2022
URL:https://burkemanor.com/event/normandy-france-group-trip/
END:VEVENT
BEGIN:VEVENT
DTSTART;TZID=America/New_York:20220611T123000
DTEND;TZID=America/New_York:20220611T143000
DTSTAMP:20260425T104509
CREATED:20220304T232024Z
LAST-MODIFIED:20220304T232024Z
UID:8068-1654950600-1654957800@burkemanor.com
SUMMARY:June Cooking Class
DESCRIPTION:Chef Lil is hosting a cooking class on Saturday\, June 11th at 12:30pm. Call 336-449-6266 for reservations! \nWe request that cancellations be made over 48 hours before the event. Cancellations within 48 hours of event will incur a $25 charge.
URL:https://burkemanor.com/event/june-cooking-class-2/
END:VEVENT
BEGIN:VEVENT
DTSTART;TZID=America/New_York:20220611T113000
DTEND;TZID=America/New_York:20220611T140000
DTSTAMP:20260425T104509
CREATED:20220602T174422Z
LAST-MODIFIED:20220602T174422Z
UID:8329-1654947000-1654956000@burkemanor.com
SUMMARY:No A La Carte Lunch Service 6/11
DESCRIPTION:Our fine dining restaurant will not be offering a la carte lunch service on Saturday\, June 11th due to Chef Lil’s Special June Cooking Class.
URL:https://burkemanor.com/event/no-a-la-carte-lunch-service-6-11/
END:VEVENT
END:VCALENDAR