BEGIN:VCALENDAR
VERSION:2.0
PRODID:-//The Burke Manor Inn &amp; Pavilion  - ECPv6.15.20//NONSGML v1.0//EN
CALSCALE:GREGORIAN
METHOD:PUBLISH
X-WR-CALNAME:The Burke Manor Inn &amp; Pavilion 
X-ORIGINAL-URL:https://burkemanor.com
X-WR-CALDESC:Events for The Burke Manor Inn &amp; Pavilion 
REFRESH-INTERVAL;VALUE=DURATION:PT1H
X-Robots-Tag:noindex
X-PUBLISHED-TTL:PT1H
BEGIN:VTIMEZONE
TZID:America/New_York
BEGIN:DAYLIGHT
TZOFFSETFROM:-0500
TZOFFSETTO:-0400
TZNAME:EDT
DTSTART:20210314T070000
END:DAYLIGHT
BEGIN:STANDARD
TZOFFSETFROM:-0400
TZOFFSETTO:-0500
TZNAME:EST
DTSTART:20211107T060000
END:STANDARD
BEGIN:DAYLIGHT
TZOFFSETFROM:-0500
TZOFFSETTO:-0400
TZNAME:EDT
DTSTART:20220313T070000
END:DAYLIGHT
BEGIN:STANDARD
TZOFFSETFROM:-0400
TZOFFSETTO:-0500
TZNAME:EST
DTSTART:20221106T060000
END:STANDARD
BEGIN:DAYLIGHT
TZOFFSETFROM:-0500
TZOFFSETTO:-0400
TZNAME:EDT
DTSTART:20230312T070000
END:DAYLIGHT
BEGIN:STANDARD
TZOFFSETFROM:-0400
TZOFFSETTO:-0500
TZNAME:EST
DTSTART:20231105T060000
END:STANDARD
BEGIN:DAYLIGHT
TZOFFSETFROM:-0500
TZOFFSETTO:-0400
TZNAME:EDT
DTSTART:20240310T070000
END:DAYLIGHT
BEGIN:STANDARD
TZOFFSETFROM:-0400
TZOFFSETTO:-0500
TZNAME:EST
DTSTART:20241103T060000
END:STANDARD
END:VTIMEZONE
BEGIN:VEVENT
DTSTART;TZID=America/New_York:20230129T080000
DTEND;TZID=America/New_York:20230204T210000
DTSTAMP:20260425T100528
CREATED:20221231T214731Z
LAST-MODIFIED:20221231T224828Z
UID:8979-1674979200-1675544400@burkemanor.com
SUMMARY:Serving Dates the Week of January 29
DESCRIPTION:We will be serving lunch Thursday\, February 2nd through Saturday\, February 4th. \nWe will be serving  dinner Wednesday\, February 1st through Saturday\, February 4th. See you then!
URL:https://burkemanor.com/event/serving-dates-the-week-of-1-29/
END:VEVENT
BEGIN:VEVENT
DTSTART;TZID=America/New_York:20230128T123000
DTEND;TZID=America/New_York:20230128T143000
DTSTAMP:20260425T100528
CREATED:20221203T202025Z
LAST-MODIFIED:20221203T202025Z
UID:8966-1674909000-1674916200@burkemanor.com
SUMMARY:New Year\, Fresh Start Cooking and Nutrition Class 1/28
DESCRIPTION:Need some help with your New Years Resolution? Interested in how you can swap in healthy ingredients to your every day meals? Then join Chef Lil and Shawn DiNatali of Get Phit Studio 2.0 on January 28th for our combined New Year\, Fresh Start cooking and nutrition class! \nReservations required. We request all cancellations be made 48 hours or more prior to event. If cancellation occurs within a 48-hour timeframe\, a $25 fee will apply. A credit card may be required to guarantee your reservation.
URL:https://burkemanor.com/event/new-year-fresh-start-cooking-and-nutrition-class-1-28/
END:VEVENT
BEGIN:VEVENT
DTSTART;TZID=America/New_York:20230122T080000
DTEND;TZID=America/New_York:20230128T170000
DTSTAMP:20260425T100528
CREATED:20221231T210532Z
LAST-MODIFIED:20221231T214557Z
UID:8977-1674374400-1674925200@burkemanor.com
SUMMARY:Serving Dates the Week of January 22
DESCRIPTION:We will be serving lunch Thursday\, January 26th and Friday\, January 27th. \nWe will be serving  dinner Wednesday\, January 25th through Saturday\, January 28th. See you then!
URL:https://burkemanor.com/event/serving-dates-the-week-of-january-22/
END:VEVENT
BEGIN:VEVENT
DTSTART;TZID=America/New_York:20230115T080000
DTEND;TZID=America/New_York:20230121T210000
DTSTAMP:20260425T100528
CREATED:20220921T175224Z
LAST-MODIFIED:20221029T225452Z
UID:8865-1673769600-1674334800@burkemanor.com
SUMMARY:Serving Dates the Week of January 15
DESCRIPTION:We will be serving lunch Friday\, January 20th. \nWe will be serving  dinner Thursday\, January 19th through Saturday\, January 21st. See you then!
URL:https://burkemanor.com/event/serving-dates-the-week-of-january-15/
END:VEVENT
BEGIN:VEVENT
DTSTART;TZID=America/New_York:20230108T080000
DTEND;TZID=America/New_York:20230114T210000
DTSTAMP:20260425T100528
CREATED:20220921T175042Z
LAST-MODIFIED:20221029T225109Z
UID:8863-1673164800-1673730000@burkemanor.com
SUMMARY:Serving Dates the Week of January 8
DESCRIPTION:To celebrate very special birthdays at The Burke Manor\, we will not be offering lunch or dinner service the January 8th – January 18th.
URL:https://burkemanor.com/event/serving-dates-the-week-of-january-8/
END:VEVENT
BEGIN:VEVENT
DTSTART;TZID=America/New_York:20230107T140000
DTEND;TZID=America/New_York:20230107T150000
DTSTAMP:20260425T100528
CREATED:20221206T183953Z
LAST-MODIFIED:20221206T183953Z
UID:8970-1673100000-1673103600@burkemanor.com
SUMMARY:Trips to France Informational Meeting 1/7
DESCRIPTION:Due to many requests\, we are holding an additional Trips to France Informational Meeting on Saturday\, January 7th\, 2023 at 2:00pm! \nIf you are interested in joining French native\, Chef Lil\, on his outstanding adventures to Burgundy\, Provence\, or Normandy next summer\, consider attending! If you are unable to attend and would like additional information about our trips\, please contact us! \nReservations are required. To reserve your spot\, please call us at 336 449 6266 or email us at info@burkemanor.com.
URL:https://burkemanor.com/event/trips-to-france-informational-meeting-1-7/
END:VEVENT
BEGIN:VEVENT
DTSTART;TZID=America/New_York:20230101T080000
DTEND;TZID=America/New_York:20230107T210000
DTSTAMP:20260425T100528
CREATED:20220921T162149Z
LAST-MODIFIED:20230102T192434Z
UID:8861-1672560000-1673125200@burkemanor.com
SUMMARY:Serving Dates the Week of January 1
DESCRIPTION:We will be serving lunch and dinner Thursday\, January 5th through Saturday\, January 7th. \n 
URL:https://burkemanor.com/event/serving-dates-the-week-of-january-1/
END:VEVENT
BEGIN:VEVENT
DTSTART;TZID=America/New_York:20221231T170000
DTEND;TZID=America/New_York:20221231T210000
DTSTAMP:20260425T100528
CREATED:20220911T003407Z
LAST-MODIFIED:20220911T003554Z
UID:8801-1672506000-1672520400@burkemanor.com
SUMMARY:Annual New Year's Eve Dinner
DESCRIPTION:Join us in celebrating the conclusion of 2022 and ring in 2023 with a special menu from Owner/Chef Lil Lacassagne! \nReservations required. We request all cancellations be made 48 hours or more prior to event. If cancellation occurs within a 48-hour timeframe\, a $25 fee will apply. A credit card may be required to guarantee your reservation.
URL:https://burkemanor.com/event/annual-new-years-eve-dinner/
END:VEVENT
BEGIN:VEVENT
DTSTART;VALUE=DATE:20221221
DTEND;VALUE=DATE:20221228
DTSTAMP:20260425T100528
CREATED:20220602T175318Z
LAST-MODIFIED:20221029T224831Z
UID:8342-1671580800-1672185599@burkemanor.com
SUMMARY:No A La Carte Service 12/21 - 12/30
DESCRIPTION:To allow our staff to celebrate the holidays with their loved ones\, our fine dining restaurant will not be offering a la carte service from 12/21-12/30 reopening Saturday\, December 31st for our Special New Years Dinner. \n 
URL:https://burkemanor.com/event/no-a-la-carte-service-12-24/
END:VEVENT
BEGIN:VEVENT
DTSTART;TZID=America/New_York:20221218T113000
DTEND;TZID=America/New_York:20221218T140000
DTSTAMP:20260425T100528
CREATED:20220911T003205Z
LAST-MODIFIED:20221203T182258Z
UID:8798-1671363000-1671372000@burkemanor.com
SUMMARY:December Brunch on 12/18
DESCRIPTION:Celebrate the holiday season with our special December brunch on Sunday\, December 18th from 11:30am – 2:00pm. \nReservations required. We request all cancellations be made 48 hours or more prior to event. If cancellation occurs within a 48-hour timeframe\, a $25 fee will apply. A credit card may be required to guarantee your reservation. \n \n \n  \n 
URL:https://burkemanor.com/event/december-brunch/
END:VEVENT
BEGIN:VEVENT
DTSTART;TZID=America/New_York:20221211T080000
DTEND;TZID=America/New_York:20221217T210000
DTSTAMP:20260425T100528
CREATED:20220921T161159Z
LAST-MODIFIED:20221029T224354Z
UID:8855-1670745600-1671310800@burkemanor.com
SUMMARY:Serving Dates the Week of December 11
DESCRIPTION:We will be serving lunch Thursday\, December 15th through Saturday\, December 17th. \nWe will be serving dinner Wednesday\, December 14th through Saturday\, December 17th. \nWe will be serving a special December brunch on Sunday\, December 18th. See you then!
URL:https://burkemanor.com/event/serving-dates-the-week-of-december-11/
END:VEVENT
BEGIN:VEVENT
DTSTART;TZID=America/New_York:20221204T080000
DTEND;TZID=America/New_York:20221210T210000
DTSTAMP:20260425T100528
CREATED:20220921T160518Z
LAST-MODIFIED:20221029T224102Z
UID:8853-1670140800-1670706000@burkemanor.com
SUMMARY:Serving Dates the Week of December 4
DESCRIPTION:We are serving lunch Friday\, December 8th &  Saturday\, December 10th. \nWe are serving dinner Wednesday\, December 7th though Saturday\, December 10th. See you then!
URL:https://burkemanor.com/event/serving-dates-the-week-of-december-4/
END:VEVENT
BEGIN:VEVENT
DTSTART;TZID=America/New_York:20221203T123000
DTEND;TZID=America/New_York:20221203T143000
DTSTAMP:20260425T100528
CREATED:20221022T191555Z
LAST-MODIFIED:20221029T223925Z
UID:8910-1670070600-1670077800@burkemanor.com
SUMMARY:December 3rd Cooking Class
DESCRIPTION:Join Chef Lil at The Burke Manor as he demonstrates how to prepare and cook French holiday favorites! \nReservations required. We request all cancellations be made 48 hours or more prior to event. If cancellation occurs within a 48-hour timeframe\, a $25 fee will apply. A credit card may be required to guarantee your reservation.
URL:https://burkemanor.com/event/december-cooking-class/
END:VEVENT
BEGIN:VEVENT
DTSTART;TZID=America/New_York:20221127T120000
DTEND;TZID=America/New_York:20221127T143000
DTSTAMP:20260425T100528
CREATED:20220908T202433Z
LAST-MODIFIED:20220921T160046Z
UID:8782-1669550400-1669559400@burkemanor.com
SUMMARY:November Brunch on 11/27
DESCRIPTION:Celebrate the conclusion of fall and ring in the remaining holiday season with our special November brunch on Sunday\, November 27th from 12:00pm – 2:30pm. \nReservations required. We request all cancellations be made 48 hours or more prior to event. If cancellation occurs within a 48-hour timeframe\, a $25 fee will apply. A credit card may be required to guarantee your reservation.
URL:https://burkemanor.com/event/november-brunch-on-11-27/
END:VEVENT
BEGIN:VEVENT
DTSTART;TZID=America/New_York:20221127T080000
DTEND;TZID=America/New_York:20221203T210000
DTSTAMP:20260425T100528
CREATED:20220921T160300Z
LAST-MODIFIED:20221029T223614Z
UID:8851-1669536000-1670101200@burkemanor.com
SUMMARY:Serving Dates the Week of November 27
DESCRIPTION:We are serving a special November brunch on Sunday\, November 27th. \nWe are serving lunch Thursday\, December 1st & Friday\, December 2nd. \nOur December Cooking Class will be held on Saturday\, December 3rd  12:30pm. \nWe are serving dinner Wednesday\, November 30th through Saturday\, December 3rd. See you then!
URL:https://burkemanor.com/event/serving-dates-the-week-of-november-27/
END:VEVENT
BEGIN:VEVENT
DTSTART;TZID=America/New_York:20221120T080000
DTEND;TZID=America/New_York:20221127T210000
DTSTAMP:20260425T100528
CREATED:20220921T155622Z
LAST-MODIFIED:20221029T223337Z
UID:8848-1668931200-1669582800@burkemanor.com
SUMMARY:Serving Dates the Week of November 20
DESCRIPTION:To allow our staff to celebrate Thanksgiving with their loved ones\, we will be serving lunch and dinner on Saturday\, November 26th and offering a special Brunch on Sunday\, November 27th. \nSee you then!
URL:https://burkemanor.com/event/serving-dates-the-week-of-november-20/
END:VEVENT
BEGIN:VEVENT
DTSTART;TZID=America/New_York:20221117T183000
DTEND;TZID=America/New_York:20221117T203000
DTSTAMP:20260425T100528
CREATED:20220911T003002Z
LAST-MODIFIED:20220911T003002Z
UID:8794-1668709800-1668717000@burkemanor.com
SUMMARY:Annual Beaujolais Nouveau Wine Dinner
DESCRIPTION:Celebrate the first wine of the harvest with this special Beaujolais Nouveau Wine Dinner! Enjoy Chef Lil’s curation of the season combined with one of the most unique wines from France! \nReservations required. We request all cancellations be made 48 hours or more prior to event. If cancellation occurs within a 48-hour timeframe\, a $25 fee will apply. A credit card may be required to guarantee your reservation.
URL:https://burkemanor.com/event/annual-beaujolais-nouveau-wine-dinner/
END:VEVENT
BEGIN:VEVENT
DTSTART;TZID=America/New_York:20221113T080000
DTEND;TZID=America/New_York:20221119T210000
DTSTAMP:20260425T100528
CREATED:20220921T155512Z
LAST-MODIFIED:20221113T153855Z
UID:8846-1668326400-1668891600@burkemanor.com
SUMMARY:Serving Dates the Week of November 13
DESCRIPTION:We will be serving lunch Friday\, November 18th. \nWe will be serving normal a la carte dinner  Friday\, November 18th &  Saturday\, November 19th. \nOn Thursday\, November 17th\, we will be holding our annual Beaujolais Nouveau Wine Dinner at 6:30pm. See you then!
URL:https://burkemanor.com/event/serving-dates-the-week-of-november-13/
END:VEVENT
BEGIN:VEVENT
DTSTART;TZID=America/New_York:20221112T123000
DTEND;TZID=America/New_York:20221112T143000
DTSTAMP:20260425T100528
CREATED:20220911T002455Z
LAST-MODIFIED:20220911T002455Z
UID:8786-1668256200-1668263400@burkemanor.com
SUMMARY:November Cooking Class
DESCRIPTION:Get ready to ring in the holiday season with Chef Lil’s November cooking class! Chef Lil will be demonstrating how to “wow” your guests with French twists on holiday classics! \nReservations required. We request all cancellations be made 48 hours or more prior to event. If cancellation occurs within a 48-hour timeframe\, a $25 fee will apply. A credit card may be required to guarantee your reservation. \n 
URL:https://burkemanor.com/event/november-cooking-class/
END:VEVENT
BEGIN:VEVENT
DTSTART;TZID=America/New_York:20221106T080000
DTEND;TZID=America/New_York:20221112T210000
DTSTAMP:20260425T100528
CREATED:20220921T155025Z
LAST-MODIFIED:20221029T222753Z
UID:8844-1667721600-1668286800@burkemanor.com
SUMMARY:Serving Dates the Week of November 6
DESCRIPTION:We are serving lunch Thursday\, November 10th and Friday\, November 11th. A cooking class will be held on Saturday\, November 12th at 12:30pm. \nWe are serving dinner Wednesday – Saturday\, November 9th – 12th.
URL:https://burkemanor.com/event/serving-dates-the-week-of-november-6/
END:VEVENT
BEGIN:VEVENT
DTSTART;VALUE=DATE:20221104
DTEND;VALUE=DATE:20221217
DTSTAMP:20260425T100528
CREATED:20221104T215452Z
LAST-MODIFIED:20221207T194616Z
UID:8948-1667520000-1671235199@burkemanor.com
SUMMARY:Holiday Case of Wine Special
DESCRIPTION:Owner/Chef Lil created a fantastic assorted case of French wine\, perfect for the holiday season! Each case includes four red wines\, one rose\, four white wines\, two sparkling\, and one dessert wine\, which is perfect if you are looking to please multiple palates or if you simply need stocking stuffers. \nTo order\, call us at 336 449 6266! Last day to order is Friday\, December 16th. \n  \n \n 
URL:https://burkemanor.com/event/holiday-case-of-wine-special/
END:VEVENT
BEGIN:VEVENT
DTSTART;TZID=America/New_York:20221030T080000
DTEND;TZID=America/New_York:20221105T210000
DTSTAMP:20260425T100528
CREATED:20220921T154733Z
LAST-MODIFIED:20221029T222905Z
UID:8842-1667116800-1667682000@burkemanor.com
SUMMARY:Serving Dates the Week of October 30
DESCRIPTION:We are serving lunch  and dinner Thursday\, November 3rd through Saturday\, November 5th. \n 
URL:https://burkemanor.com/event/serving-dates-the-week-of-october-30/
END:VEVENT
BEGIN:VEVENT
DTSTART;TZID=America/New_York:20221023T080000
DTEND;TZID=America/New_York:20221029T210000
DTSTAMP:20260425T100528
CREATED:20220921T154553Z
LAST-MODIFIED:20220921T154553Z
UID:8840-1666512000-1667077200@burkemanor.com
SUMMARY:Serving Dates the Week of October 23
DESCRIPTION:We are serving lunch Thursday\, October 27th and Friday\, October 28th. \nWe are serving dinner Wednesday\, October 26th through Saturday\, October 29th. See you then!
URL:https://burkemanor.com/event/serving-dates-the-week-of-october-23/
END:VEVENT
BEGIN:VEVENT
DTSTART;TZID=America/New_York:20221016T080000
DTEND;TZID=America/New_York:20221022T210000
DTSTAMP:20260425T100528
CREATED:20220921T153016Z
LAST-MODIFIED:20220921T154401Z
UID:8831-1665907200-1666472400@burkemanor.com
SUMMARY:Serving Dates the Week of October 16
DESCRIPTION:We will serve lunch Thursday\, October 20th and Friday\, October 21st. \nWe will serve dinner Thursday\, October 20th and Friday\, October 21st. See you then!
URL:https://burkemanor.com/event/serving-dates-the-week-of-october-16/
END:VEVENT
BEGIN:VEVENT
DTSTART;TZID=America/New_York:20221009T080000
DTEND;TZID=America/New_York:20221015T210000
DTSTAMP:20260425T100528
CREATED:20220917T214724Z
LAST-MODIFIED:20220921T154341Z
UID:8824-1665302400-1665867600@burkemanor.com
SUMMARY:Serving Dates the Week of October 9
DESCRIPTION:We will serve lunch Thursday\, October 13th – Saturday\, October 15. \nWe will serve dinner Thursday\, October 13th – Saturday\, October 15. See you then!
URL:https://burkemanor.com/event/serving-dates-the-week-of-october-9/
END:VEVENT
BEGIN:VEVENT
DTSTART;TZID=America/New_York:20221002T080000
DTEND;TZID=America/New_York:20221008T210000
DTSTAMP:20260425T100528
CREATED:20220916T220719Z
LAST-MODIFIED:20220921T154306Z
UID:8819-1664697600-1665262800@burkemanor.com
SUMMARY:Serving Dates the Week of October 2
DESCRIPTION:We will serve lunch Thursday\, October sixth. \nWe will serve dinner Wednesday\, October fifth through Saturday\, October eighth. See you then!
URL:https://burkemanor.com/event/serving-dates-the-week-of-october-2/
END:VEVENT
BEGIN:VEVENT
DTSTART;VALUE=DATE:20220930
DTEND;VALUE=DATE:20221003
DTSTAMP:20260425T100528
CREATED:20220322T190244Z
LAST-MODIFIED:20220420T180247Z
UID:8115-1664496000-1664755199@burkemanor.com
SUMMARY:Elon Parent's Weekend 2022 -- We are fully booked!
DESCRIPTION:If you’d like to be added to our waitlist\, please give us a call at 336-449-6266.
URL:https://burkemanor.com/event/we-are-fully-booked-for-elons-parents-weekend-2022/
END:VEVENT
BEGIN:VEVENT
DTSTART;TZID=America/New_York:20220925T080000
DTEND;TZID=America/New_York:20221001T210000
DTSTAMP:20260425T100528
CREATED:20220916T215743Z
LAST-MODIFIED:20220921T154244Z
UID:8817-1664092800-1664658000@burkemanor.com
SUMMARY:Serving Dates the Week of September 25
DESCRIPTION:We will serve lunch Thursday\, September 29th through Saturday\, October first. \nWe will serve dinner Wednesday\, September 28th through Saturday\, October first. See you then!
URL:https://burkemanor.com/event/serving-dates-the-week-of-september-25/
END:VEVENT
BEGIN:VEVENT
DTSTART;TZID=America/New_York:20220918T120000
DTEND;TZID=America/New_York:20220918T143000
DTSTAMP:20260425T100528
CREATED:20220729T230601Z
LAST-MODIFIED:20220729T230601Z
UID:8539-1663502400-1663511400@burkemanor.com
SUMMARY:September Brunch with Local Fares
DESCRIPTION:Join us as we celebrate local businesses\, such as Gibsonville’s own Smith Farms\, Iron Bell Farm\, Smidgen\, Blueberry Thrill\, and more! \nChef Lil has curated a special\, local-inspired brunch to showcase their products! \nReservations are required. We request all cancelations be made 48 hours in advance of the event. Any cancelations within the 48 hour period will incur a $25 fee
URL:https://burkemanor.com/event/september-brunch-with-local-fares/
END:VEVENT
BEGIN:VEVENT
DTSTART;TZID=America/New_York:20220918T080000
DTEND;TZID=America/New_York:20220924T210000
DTSTAMP:20260425T100528
CREATED:20220916T215533Z
LAST-MODIFIED:20220916T215533Z
UID:8815-1663488000-1664053200@burkemanor.com
SUMMARY:Serving Dates the Week of September 18
DESCRIPTION:We will be serving lunch Thursday\, September 22nd and Friday\, September 23rd. \nWe will be serving dinner Thursday\, September 22nd through Saturday\, September 24th. See you then!
URL:https://burkemanor.com/event/serving-dates-the-week-of-september-18/
END:VEVENT
END:VCALENDAR