BEGIN:VCALENDAR
VERSION:2.0
PRODID:-//The Burke Manor Inn &amp; Pavilion  - ECPv6.15.20//NONSGML v1.0//EN
CALSCALE:GREGORIAN
METHOD:PUBLISH
X-WR-CALNAME:The Burke Manor Inn &amp; Pavilion 
X-ORIGINAL-URL:https://burkemanor.com
X-WR-CALDESC:Events for The Burke Manor Inn &amp; Pavilion 
REFRESH-INTERVAL;VALUE=DURATION:PT1H
X-Robots-Tag:noindex
X-PUBLISHED-TTL:PT1H
BEGIN:VTIMEZONE
TZID:America/New_York
BEGIN:DAYLIGHT
TZOFFSETFROM:-0500
TZOFFSETTO:-0400
TZNAME:EDT
DTSTART:20220313T070000
END:DAYLIGHT
BEGIN:STANDARD
TZOFFSETFROM:-0400
TZOFFSETTO:-0500
TZNAME:EST
DTSTART:20221106T060000
END:STANDARD
BEGIN:DAYLIGHT
TZOFFSETFROM:-0500
TZOFFSETTO:-0400
TZNAME:EDT
DTSTART:20230312T070000
END:DAYLIGHT
BEGIN:STANDARD
TZOFFSETFROM:-0400
TZOFFSETTO:-0500
TZNAME:EST
DTSTART:20231105T060000
END:STANDARD
BEGIN:DAYLIGHT
TZOFFSETFROM:-0500
TZOFFSETTO:-0400
TZNAME:EDT
DTSTART:20240310T070000
END:DAYLIGHT
BEGIN:STANDARD
TZOFFSETFROM:-0400
TZOFFSETTO:-0500
TZNAME:EST
DTSTART:20241103T060000
END:STANDARD
BEGIN:DAYLIGHT
TZOFFSETFROM:-0500
TZOFFSETTO:-0400
TZNAME:EDT
DTSTART:20250309T070000
END:DAYLIGHT
BEGIN:STANDARD
TZOFFSETFROM:-0400
TZOFFSETTO:-0500
TZNAME:EST
DTSTART:20251102T060000
END:STANDARD
BEGIN:DAYLIGHT
TZOFFSETFROM:-0500
TZOFFSETTO:-0400
TZNAME:EDT
DTSTART:20260308T070000
END:DAYLIGHT
BEGIN:STANDARD
TZOFFSETFROM:-0400
TZOFFSETTO:-0500
TZNAME:EST
DTSTART:20261101T060000
END:STANDARD
BEGIN:DAYLIGHT
TZOFFSETFROM:-0500
TZOFFSETTO:-0400
TZNAME:EDT
DTSTART:20270314T070000
END:DAYLIGHT
BEGIN:STANDARD
TZOFFSETFROM:-0400
TZOFFSETTO:-0500
TZNAME:EST
DTSTART:20271107T060000
END:STANDARD
END:VTIMEZONE
BEGIN:VEVENT
DTSTART;TZID=America/New_York:20260405T120000
DTEND;TZID=America/New_York:20260405T150000
DTSTAMP:20260425T140425
CREATED:20250302T235915Z
LAST-MODIFIED:20260128T115403Z
UID:10717-1775390400-1775401200@burkemanor.com
SUMMARY:Easter Brunch
DESCRIPTION:
URL:https://burkemanor.com/event/easter-brunch-3/
LOCATION:St. Jacques at the Burke Manor\, 303 Burke St\, Gibsonville\, NC\, 27249\, United States
CATEGORIES:Brunch,Special Events,St. Jacques @ The Burke Manor
ORGANIZER;CN="Lil Lacassagne":MAILTO:info@burkemanor.com
END:VEVENT
BEGIN:VEVENT
DTSTART;VALUE=DATE:20260212
DTEND;VALUE=DATE:20260216
DTSTAMP:20260425T140425
CREATED:20250114T183930Z
LAST-MODIFIED:20260108T203424Z
UID:10654-1770854400-1771199999@burkemanor.com
SUMMARY:Special Valentine's Lunch
DESCRIPTION:
URL:https://burkemanor.com/event/special-valentines-lunch/
LOCATION:St. Jacques at the Burke Manor\, 303 Burke St\, Gibsonville\, NC\, 27249\, United States
CATEGORIES:St. Jacques @ The Burke Manor
ORGANIZER;CN="Lil Lacassagne":MAILTO:info@burkemanor.com
END:VEVENT
BEGIN:VEVENT
DTSTART;VALUE=DATE:20260212
DTEND;VALUE=DATE:20260215
DTSTAMP:20260425T140425
CREATED:20250114T184625Z
LAST-MODIFIED:20260108T203634Z
UID:10657-1770854400-1771113599@burkemanor.com
SUMMARY:Repas de la Valentin Dinner
DESCRIPTION:
URL:https://burkemanor.com/event/repas-de-la-valentin-dinner/
LOCATION:St. Jacques at the Burke Manor\, 303 Burke St\, Gibsonville\, NC\, 27249\, United States
CATEGORIES:St. Jacques @ The Burke Manor
ORGANIZER;CN="Lil Lacassagne":MAILTO:info@burkemanor.com
END:VEVENT
BEGIN:VEVENT
DTSTART;TZID=America/New_York:20260129T170000
DTEND;TZID=America/New_York:20260129T213000
DTSTAMP:20260425T140425
CREATED:20260128T010528Z
LAST-MODIFIED:20260128T010528Z
UID:10917-1769706000-1769722200@burkemanor.com
SUMMARY:“15” Course Anniversary Dinner
DESCRIPTION:Come and join Lil and Lori with their team as they celebrate the Burke Manor’s 15th anniversary under their governance. \nWe are offering a 15 courses\, unique wine dinner menu – 15 courses for 15 years. \nA once in Burke manor history Chef’s rare selections set menu\, sure to please everyone.
URL:https://burkemanor.com/event/15-course-anniversary-dinner/
LOCATION:St. Jacques at the Burke Manor\, 303 Burke St\, Gibsonville\, NC\, 27249\, United States
CATEGORIES:Special Events,St. Jacques @ The Burke Manor
ORGANIZER;CN="Lil Lacassagne":MAILTO:info@burkemanor.com
END:VEVENT
BEGIN:VEVENT
DTSTART;TZID=America/New_York:20251005T120000
DTEND;TZID=America/New_York:20251005T140000
DTSTAMP:20260425T140425
CREATED:20250626T000007Z
LAST-MODIFIED:20250827T203953Z
UID:10807-1759665600-1759672800@burkemanor.com
SUMMARY:Burke Manor Inn Brunch
DESCRIPTION:
URL:https://burkemanor.com/event/burke-manor-inn-brunch-7/
LOCATION:St. Jacques at the Burke Manor\, 303 Burke St\, Gibsonville\, NC\, 27249\, United States
CATEGORIES:Brunch,St. Jacques @ The Burke Manor
ORGANIZER;CN="Lil Lacassagne":MAILTO:info@burkemanor.com
END:VEVENT
BEGIN:VEVENT
DTSTART;TZID=America/New_York:20250807T183000
DTEND;TZID=America/New_York:20250807T213000
DTSTAMP:20260425T140425
CREATED:20250625T235532Z
LAST-MODIFIED:20250625T235532Z
UID:10803-1754591400-1754602200@burkemanor.com
SUMMARY:A Julia Child Inspired Dinner
DESCRIPTION:
URL:https://burkemanor.com/event/a-julia-child-inspired-dinner/
LOCATION:St. Jacques at the Burke Manor\, 303 Burke St\, Gibsonville\, NC\, 27249\, United States
CATEGORIES:Special Events,St. Jacques @ The Burke Manor,Wine Dinners
ORGANIZER;CN="Lil Lacassagne":MAILTO:info@burkemanor.com
END:VEVENT
BEGIN:VEVENT
DTSTART;TZID=America/New_York:20250709T160000
DTEND;TZID=America/New_York:20250709T180000
DTSTAMP:20260425T140425
CREATED:20250513T105009Z
LAST-MODIFIED:20250513T105009Z
UID:10782-1752076800-1752084000@burkemanor.com
SUMMARY:Afternoon in "Provence" on the Veranda
DESCRIPTION:Be whisked away to Gibsonville’s little piece of Provence\, this summer. Enjoy the flexibility of popping in or relaxing the full time to enjoy our special Rosé\, Pastis and Charcuterie\, only available during these hours. Come relax\, socialize and enjoy a leisurelyafternoon on the porch!\n\nRosé $10 per glass\, $35 per bottlePastis $10 per glassCharcuterie & Cheese Board and accoutrements:$26 small/$40 large\n\n**Make it a “Getaway” and book one of our luxury overnight rooms with breakfast in the morning**
URL:https://burkemanor.com/event/afternoon-in-provence-on-the-veranda-4/
LOCATION:The Burke Manor Inn & Pavilion\, 303 Burke St\, Gibsonville\, NC\, 27249\, United States
CATEGORIES:St. Jacques @ The Burke Manor
END:VEVENT
BEGIN:VEVENT
DTSTART;TZID=America/New_York:20250702T160000
DTEND;TZID=America/New_York:20250702T180000
DTSTAMP:20260425T140425
CREATED:20250513T104918Z
LAST-MODIFIED:20250513T104918Z
UID:10779-1751472000-1751479200@burkemanor.com
SUMMARY:Afternoon in "Provence" on the Veranda
DESCRIPTION:Be whisked away to Gibsonville’s little piece of Provence\, this summer. Enjoy the flexibility of popping in or relaxing the full time to enjoy our special Rosé\, Pastis and Charcuterie\, only available during these hours. Come relax\, socialize and enjoy a leisurelyafternoon on the porch!\n\nRosé $10 per glass\, $35 per bottlePastis $10 per glassCharcuterie & Cheese Board and accoutrements:$26 small/$40 large\n\n**Make it a “Getaway” and book one of our luxury overnight rooms with breakfast in the morning**
URL:https://burkemanor.com/event/afternoon-in-provence-on-the-veranda-3/
LOCATION:The Burke Manor Inn & Pavilion\, 303 Burke St\, Gibsonville\, NC\, 27249\, United States
CATEGORIES:St. Jacques @ The Burke Manor
END:VEVENT
BEGIN:VEVENT
DTSTART;TZID=America/New_York:20250625T160000
DTEND;TZID=America/New_York:20250625T180000
DTSTAMP:20260425T140425
CREATED:20250513T104818Z
LAST-MODIFIED:20250513T104818Z
UID:10777-1750867200-1750874400@burkemanor.com
SUMMARY:Afternoon in "Provence" on the Veranda
DESCRIPTION:Be whisked away to Gibsonville’s little piece of Provence\, this summer. Enjoy the flexibility of popping in or relaxing the full time to enjoy our special Rosé\, Pastis and Charcuterie\, only available during these hours. Come relax\, socialize and enjoy a leisurely afternoon on the porch!\n\nRosé $10 per glass\, $35 per bottlePastis $10 per glassCharcuterie & Cheese Board and accoutrements:$26 small/$40 large\n\n**Make it a “Getaway” and book one of our luxury overnight rooms with breakfast in the morning**
URL:https://burkemanor.com/event/afternoon-in-provence-on-the-veranda-2/
LOCATION:The Burke Manor Inn & Pavilion\, 303 Burke St\, Gibsonville\, NC\, 27249\, United States
CATEGORIES:St. Jacques @ The Burke Manor
END:VEVENT
BEGIN:VEVENT
DTSTART;TZID=America/New_York:20250619T183000
DTEND;TZID=America/New_York:20250619T213000
DTSTAMP:20260425T140425
CREATED:20250513T104320Z
LAST-MODIFIED:20250513T104320Z
UID:10773-1750357800-1750368600@burkemanor.com
SUMMARY:Provence/South of France Wine Dinner
DESCRIPTION:
URL:https://burkemanor.com/event/provence-south-of-france-wine-dinner/
LOCATION:St. Jacques at the Burke Manor\, 303 Burke St\, Gibsonville\, NC\, 27249\, United States
CATEGORIES:St. Jacques @ The Burke Manor,Wine Dinners
ORGANIZER;CN="Lil Lacassagne":MAILTO:info@burkemanor.com
END:VEVENT
BEGIN:VEVENT
DTSTART;TZID=America/New_York:20250511T120000
DTEND;TZID=America/New_York:20250511T150000
DTSTAMP:20260425T140425
CREATED:20250303T000825Z
LAST-MODIFIED:20250303T000825Z
UID:10720-1746964800-1746975600@burkemanor.com
SUMMARY:Mother's Day Brunch
DESCRIPTION:
URL:https://burkemanor.com/event/mothers-day-brunch-2/
LOCATION:St. Jacques at the Burke Manor\, 303 Burke St\, Gibsonville\, NC\, 27249\, United States
CATEGORIES:Brunch,Special Events,St. Jacques @ The Burke Manor
ORGANIZER;CN="Lil Lacassagne":MAILTO:info@burkemanor.com
END:VEVENT
BEGIN:VEVENT
DTSTART;TZID=America/New_York:20250501T160000
DTEND;TZID=America/New_York:20250501T173000
DTSTAMP:20260425T140425
CREATED:20250408T164311Z
LAST-MODIFIED:20250408T164311Z
UID:10749-1746115200-1746120600@burkemanor.com
SUMMARY:Wine Tasting Class
DESCRIPTION:This highly demanded event is sure to educate and enlighten you on the intricacies of French Wine. \nChef Lil will be choosing 2 of his favorite reds and 2 of his favorite whites for everyone to sip\, savor and analyze. \n Each wine will be paired with hors d’oeuvres to compliment. \nDiscussion and tips on appropriate foods to enhance wine flavors. \nSpecial pricing will be made available for all wines tasted. \nWe request that cancellations be made 48 hours or more before the event. \nCancellations within 48 hours of event will incur a $25 charge. A credit card may be required to guarantee your spot. \nSpace is limited\, so RSVP early! \n******************* \nMake it a “Get Away” and book at a special offering on one of our overnight packages.  It’s always the right time to stay at the Burke Manor. \n(Remember Chef Lil creates the most amazing breakfasts!) \n*******************
URL:https://burkemanor.com/event/wine-tasting-class/
LOCATION:St. Jacques at the Burke Manor\, 303 Burke St\, Gibsonville\, NC\, 27249\, United States
CATEGORIES:Special Events,St. Jacques @ The Burke Manor
ORGANIZER;CN="Lil Lacassagne":MAILTO:info@burkemanor.com
END:VEVENT
BEGIN:VEVENT
DTSTART;TZID=America/New_York:20250321T170000
DTEND;TZID=America/New_York:20250321T210000
DTSTAMP:20260425T140425
CREATED:20250130T131938Z
LAST-MODIFIED:20250310T084553Z
UID:10684-1742576400-1742590800@burkemanor.com
SUMMARY:No A La Carte Dinner Service
DESCRIPTION:We will not be offering our regular a la carte dinner service due to a private event. We apologize for any inconvenience and look forward to serving you at our next availability!
URL:https://burkemanor.com/event/no-a-la-carte-dinner-service-2/
LOCATION:St. Jacques at the Burke Manor\, 303 Burke St\, Gibsonville\, NC\, 27249\, United States
CATEGORIES:Service Hours,St. Jacques @ The Burke Manor
ORGANIZER;CN="Lil Lacassagne":MAILTO:info@burkemanor.com
END:VEVENT
BEGIN:VEVENT
DTSTART;TZID=America/New_York:20250306T183000
DTEND;TZID=America/New_York:20250306T213000
DTSTAMP:20260425T140425
CREATED:20250130T131459Z
LAST-MODIFIED:20250201T132538Z
UID:10680-1741285800-1741296600@burkemanor.com
SUMMARY:Wine Dinner
DESCRIPTION:﻿
URL:https://burkemanor.com/event/wine-dinner/
LOCATION:St. Jacques at the Burke Manor\, 303 Burke St\, Gibsonville\, NC\, 27249\, United States
CATEGORIES:St. Jacques @ The Burke Manor,Wine Dinners
ORGANIZER;CN="Lil Lacassagne":MAILTO:info@burkemanor.com
END:VEVENT
BEGIN:VEVENT
DTSTART;TZID=America/New_York:20250227T113000
DTEND;TZID=America/New_York:20250227T140000
DTSTAMP:20260425T140425
CREATED:20250203T172944Z
LAST-MODIFIED:20250203T172944Z
UID:10695-1740655800-1740664800@burkemanor.com
SUMMARY:No A-La-Carte Lunch Service
DESCRIPTION:
URL:https://burkemanor.com/event/no-a-la-carte-lunch-service-7/
LOCATION:St. Jacques at the Burke Manor\, 303 Burke St\, Gibsonville\, NC\, 27249\, United States
CATEGORIES:Service Hours,St. Jacques @ The Burke Manor
END:VEVENT
BEGIN:VEVENT
DTSTART;TZID=America/New_York:20250222T113000
DTEND;TZID=America/New_York:20250222T140000
DTSTAMP:20260425T140425
CREATED:20250130T131244Z
LAST-MODIFIED:20250130T131244Z
UID:10676-1740223800-1740232800@burkemanor.com
SUMMARY:No A-La-Carte Lunch Service
DESCRIPTION:
URL:https://burkemanor.com/event/no-a-la-carte-lunch-service-6/
LOCATION:St. Jacques at the Burke Manor\, 303 Burke St\, Gibsonville\, NC\, 27249\, United States
CATEGORIES:Service Hours,St. Jacques @ The Burke Manor
END:VEVENT
BEGIN:VEVENT
DTSTART;TZID=America/New_York:20250202T123000
DTEND;TZID=America/New_York:20250202T143000
DTSTAMP:20260425T140425
CREATED:20250120T143145Z
LAST-MODIFIED:20250120T143145Z
UID:10670-1738499400-1738506600@burkemanor.com
SUMMARY:Exclusive Bubbly Brunch
DESCRIPTION:
URL:https://burkemanor.com/event/exclusive-bubbly-brunch/
LOCATION:St. Jacques at the Burke Manor\, 303 Burke St\, Gibsonville\, NC\, 27249\, United States
CATEGORIES:Brunch,St. Jacques @ The Burke Manor
ORGANIZER;CN="Lil Lacassagne":MAILTO:info@burkemanor.com
END:VEVENT
BEGIN:VEVENT
DTSTART;TZID=America/New_York:20250130T183000
DTEND;TZID=America/New_York:20250130T213000
DTSTAMP:20260425T140425
CREATED:20250116T200511Z
LAST-MODIFIED:20250116T200511Z
UID:10667-1738261800-1738272600@burkemanor.com
SUMMARY:Champagne Dinner
DESCRIPTION:
URL:https://burkemanor.com/event/champagne-dinner/
LOCATION:St. Jacques at the Burke Manor\, 303 Burke St\, Gibsonville\, NC\, 27249\, United States
CATEGORIES:Special Events,St. Jacques @ The Burke Manor,Wine Dinners
ORGANIZER;CN="Lil Lacassagne":MAILTO:info@burkemanor.com
END:VEVENT
BEGIN:VEVENT
DTSTART;TZID=America/New_York:20250102T113000
DTEND;TZID=America/New_York:20250102T140000
DTSTAMP:20260425T140425
CREATED:20241224T132424Z
LAST-MODIFIED:20241224T132424Z
UID:10646-1735817400-1735826400@burkemanor.com
SUMMARY:No A-La-Carte Lunch Service
DESCRIPTION:
URL:https://burkemanor.com/event/no-a-la-carte-lunch-service-5/
LOCATION:NC
CATEGORIES:Service Hours,St. Jacques @ The Burke Manor
END:VEVENT
BEGIN:VEVENT
DTSTART;TZID=America/New_York:20241231T173000
DTEND;TZID=America/New_York:20241231T233000
DTSTAMP:20260425T140425
CREATED:20241202T120400Z
LAST-MODIFIED:20241202T120400Z
UID:10637-1735666200-1735687800@burkemanor.com
SUMMARY:Annual New Years Eve Dinner
DESCRIPTION:
URL:https://burkemanor.com/event/annual-new-years-eve-dinner-2/
LOCATION:St. Jacques at the Burke Manor\, 303 Burke St\, Gibsonville\, NC\, 27249\, United States
CATEGORIES:St. Jacques @ The Burke Manor
ORGANIZER;CN="Lil Lacassagne":MAILTO:info@burkemanor.com
END:VEVENT
BEGIN:VEVENT
DTSTART;VALUE=DATE:20241127
DTEND;VALUE=DATE:20241130
DTSTAMP:20260425T140425
CREATED:20241026T121537Z
LAST-MODIFIED:20241026T121555Z
UID:10611-1732665600-1732924799@burkemanor.com
SUMMARY:No A La Carte Service
DESCRIPTION:Due to the Thanksgiving Holiday\, we will not be offering our usual a-la-carte lunch or dinner services. We apologize for any inconvenience this may cause and thank you for your understanding. Our team is dedicated to making these special moments unforgettable for our guests\, and we hope to welcome you back soon for a delicious meal and warm hospitality! \nThank you for your continued support! We can’t wait to see you soon!
URL:https://burkemanor.com/event/no-a-la-carte-service-2/
LOCATION:St. Jacques at the Burke Manor\, 303 Burke St\, Gibsonville\, NC\, 27249\, United States
CATEGORIES:Service Hours,St. Jacques @ The Burke Manor
END:VEVENT
BEGIN:VEVENT
DTSTART;TZID=America/New_York:20240814T170000
DTEND;TZID=America/New_York:20240814T220000
DTSTAMP:20260425T140425
CREATED:20240723T090230Z
LAST-MODIFIED:20240723T090230Z
UID:10505-1723654800-1723672800@burkemanor.com
SUMMARY:No Dinner Service 8/14
DESCRIPTION:
URL:https://burkemanor.com/event/no-dinner-service-8-14/
LOCATION:St. Jacques at the Burke Manor\, 303 Burke St\, Gibsonville\, NC\, 27249\, United States
CATEGORIES:St. Jacques @ The Burke Manor
END:VEVENT
BEGIN:VEVENT
DTSTART;TZID=America/New_York:20240807T170000
DTEND;TZID=America/New_York:20240807T220000
DTSTAMP:20260425T140425
CREATED:20240723T090127Z
LAST-MODIFIED:20240723T090127Z
UID:10503-1723050000-1723068000@burkemanor.com
SUMMARY:No Dinner Service 8/7
DESCRIPTION:
URL:https://burkemanor.com/event/no-dinner-service-8-7/
LOCATION:St. Jacques at the Burke Manor\, 303 Burke St\, Gibsonville\, NC\, 27249\, United States
CATEGORIES:St. Jacques @ The Burke Manor
END:VEVENT
BEGIN:VEVENT
DTSTART;TZID=America/New_York:20240731T170000
DTEND;TZID=America/New_York:20240731T220000
DTSTAMP:20260425T140425
CREATED:20240723T090039Z
LAST-MODIFIED:20240723T090151Z
UID:10501-1722445200-1722463200@burkemanor.com
SUMMARY:No Dinner Service 7/31
DESCRIPTION:
URL:https://burkemanor.com/event/no-dinner-service-7-31/
LOCATION:St. Jacques at the Burke Manor\, 303 Burke St\, Gibsonville\, NC\, 27249\, United States
CATEGORIES:St. Jacques @ The Burke Manor
END:VEVENT
BEGIN:VEVENT
DTSTART;TZID=America/New_York:20240724T170000
DTEND;TZID=America/New_York:20240724T220000
DTSTAMP:20260425T140425
CREATED:20240723T085902Z
LAST-MODIFIED:20240723T085925Z
UID:10498-1721840400-1721858400@burkemanor.com
SUMMARY:No Dinner Service 7/24
DESCRIPTION:
URL:https://burkemanor.com/event/no-dinner-service-7-24/
LOCATION:St. Jacques at the Burke Manor\, 303 Burke St\, Gibsonville\, NC\, 27249\, United States
CATEGORIES:St. Jacques @ The Burke Manor
END:VEVENT
BEGIN:VEVENT
DTSTART;TZID=America/New_York:20240128T123000
DTEND;TZID=America/New_York:20240128T143000
DTSTAMP:20260425T140425
CREATED:20240104T224714Z
LAST-MODIFIED:20240104T224714Z
UID:10331-1706445000-1706452200@burkemanor.com
SUMMARY:Exclusive Burke Bubbly Brunch
DESCRIPTION:Start 2024 off with an amazing meal paired with exceptional. French Sparkling and Champagnes\, organically made at family estates.\nDomains shared with you by Laure Levesque\, “Queen of Wines” & Prepared by Chef/Owner Lil Lacassagne \nView Menu
URL:https://burkemanor.com/event/exclusive-burke-bubbly-brunch/
LOCATION:St. Jacques at the Burke Manor\, 303 Burke St\, Gibsonville\, NC\, 27249\, United States
CATEGORIES:Brunch,St. Jacques @ The Burke Manor
ORGANIZER;CN="Lil Lacassagne":MAILTO:info@burkemanor.com
END:VEVENT
BEGIN:VEVENT
DTSTART;VALUE=DATE:20231125
DTEND;VALUE=DATE:20231126
DTSTAMP:20260425T140425
CREATED:20231105T133602Z
LAST-MODIFIED:20231105T133602Z
UID:10176-1700870400-1700956799@burkemanor.com
SUMMARY:Dinner Service Only
DESCRIPTION:St. Jacques at the Burke Manor will not be open for lunch service today\, but we are serving our regular dinner service. We look forward to seeing you and hope everyone had a fabulous Thanksgiving holiday!
URL:https://burkemanor.com/event/dinner-service-only/
LOCATION:St. Jacques at the Burke Manor\, 303 Burke St\, Gibsonville\, NC\, 27249\, United States
CATEGORIES:St. Jacques @ The Burke Manor
ORGANIZER;CN="Lil Lacassagne":MAILTO:info@burkemanor.com
END:VEVENT
END:VCALENDAR