BEGIN:VCALENDAR
VERSION:2.0
PRODID:-//The Burke Manor Inn &amp; Pavilion  - ECPv6.15.20//NONSGML v1.0//EN
CALSCALE:GREGORIAN
METHOD:PUBLISH
X-ORIGINAL-URL:https://burkemanor.com
X-WR-CALDESC:Events for The Burke Manor Inn &amp; Pavilion 
REFRESH-INTERVAL;VALUE=DURATION:PT1H
X-Robots-Tag:noindex
X-PUBLISHED-TTL:PT1H
BEGIN:VTIMEZONE
TZID:America/New_York
BEGIN:DAYLIGHT
TZOFFSETFROM:-0500
TZOFFSETTO:-0400
TZNAME:EDT
DTSTART:20230312T070000
END:DAYLIGHT
BEGIN:STANDARD
TZOFFSETFROM:-0400
TZOFFSETTO:-0500
TZNAME:EST
DTSTART:20231105T060000
END:STANDARD
BEGIN:DAYLIGHT
TZOFFSETFROM:-0500
TZOFFSETTO:-0400
TZNAME:EDT
DTSTART:20240310T070000
END:DAYLIGHT
BEGIN:STANDARD
TZOFFSETFROM:-0400
TZOFFSETTO:-0500
TZNAME:EST
DTSTART:20241103T060000
END:STANDARD
BEGIN:DAYLIGHT
TZOFFSETFROM:-0500
TZOFFSETTO:-0400
TZNAME:EDT
DTSTART:20250309T070000
END:DAYLIGHT
BEGIN:STANDARD
TZOFFSETFROM:-0400
TZOFFSETTO:-0500
TZNAME:EST
DTSTART:20251102T060000
END:STANDARD
END:VTIMEZONE
BEGIN:VEVENT
DTSTART;TZID=America/New_York:20240613T153000
DTEND;TZID=America/New_York:20240613T173000
DTSTAMP:20260425T065211
CREATED:20240506T001131Z
LAST-MODIFIED:20240506T001131Z
UID:10453-1718292600-1718299800@burkemanor.com
SUMMARY:Afternoon "in Provence" on the Verandah
DESCRIPTION:Be whisked away to Gibsonville’s little piece of Provence this \nsummer! Enjoy the flexibility of popping in or relaxing the full \ntime to enjoy our special Rosé\, Pastis or Charcuterie\, only \navailable during these hours. \nCome relax\, socialize\, and enjoy a leisurely afternoon on the porch! \nRosé: $8 per glass\, $30 per bottle \nPastis: $9 per glass \nCharcuterie: $18 per board
URL:https://burkemanor.com/event/afternoon-in-provence-on-the-verandah/
LOCATION:The Burke Manor Inn & Pavilion\, 303 Burke St\, Gibsonville\, NC\, 27249\, United States
CATEGORIES:Special Events
ORGANIZER;CN="Lil Lacassagne":MAILTO:info@burkemanor.com
END:VEVENT
END:VCALENDAR