BEGIN:VCALENDAR
VERSION:2.0
PRODID:-//The Burke Manor Inn &amp; Pavilion  - ECPv6.15.20//NONSGML v1.0//EN
CALSCALE:GREGORIAN
METHOD:PUBLISH
X-ORIGINAL-URL:https://burkemanor.com
X-WR-CALDESC:Events for The Burke Manor Inn &amp; Pavilion 
REFRESH-INTERVAL;VALUE=DURATION:PT1H
X-Robots-Tag:noindex
X-PUBLISHED-TTL:PT1H
BEGIN:VTIMEZONE
TZID:America/New_York
BEGIN:DAYLIGHT
TZOFFSETFROM:-0500
TZOFFSETTO:-0400
TZNAME:EDT
DTSTART:20220313T070000
END:DAYLIGHT
BEGIN:STANDARD
TZOFFSETFROM:-0400
TZOFFSETTO:-0500
TZNAME:EST
DTSTART:20221106T060000
END:STANDARD
BEGIN:DAYLIGHT
TZOFFSETFROM:-0500
TZOFFSETTO:-0400
TZNAME:EDT
DTSTART:20230312T070000
END:DAYLIGHT
BEGIN:STANDARD
TZOFFSETFROM:-0400
TZOFFSETTO:-0500
TZNAME:EST
DTSTART:20231105T060000
END:STANDARD
BEGIN:DAYLIGHT
TZOFFSETFROM:-0500
TZOFFSETTO:-0400
TZNAME:EDT
DTSTART:20240310T070000
END:DAYLIGHT
BEGIN:STANDARD
TZOFFSETFROM:-0400
TZOFFSETTO:-0500
TZNAME:EST
DTSTART:20241103T060000
END:STANDARD
END:VTIMEZONE
BEGIN:VEVENT
DTSTART;TZID=America/New_York:20231206T150000
DTEND;TZID=America/New_York:20231206T160000
DTSTAMP:20260425T105137
CREATED:20230831T133404Z
LAST-MODIFIED:20230831T133404Z
UID:9814-1701874800-1701878400@burkemanor.com
SUMMARY:Informational Meeting Group Trip France 2024
DESCRIPTION:Attend our informational meeting for details on our 2024 Group Trips to France. Wednesday\, December 6th 3pm \n(Perfect Christmas gift for that someone special)
URL:https://burkemanor.com/event/informational-meeting-group-trip-france-2024/
LOCATION:NC
END:VEVENT
BEGIN:VEVENT
DTSTART;TZID=America/New_York:20231206T170000
DTEND;TZID=America/New_York:20231209T200000
DTSTAMP:20260425T105137
CREATED:20231203T162331Z
LAST-MODIFIED:20230916T235343Z
UID:9926-1701882000-1702152000@burkemanor.com
SUMMARY:Serving Dates the Week of December 3rd
DESCRIPTION:We will be serving lunch Thursday December 7th through Saturday December 9th. \nWe will be serving dinner Wednesday December 6th through Saturday December 9th. See you then!
URL:https://burkemanor.com/event/serving-dates-the-week-of-december-3rd/
LOCATION:NC
END:VEVENT
END:VCALENDAR