BEGIN:VCALENDAR
VERSION:2.0
PRODID:-//The Burke Manor Inn &amp; Pavilion  - ECPv6.15.20//NONSGML v1.0//EN
CALSCALE:GREGORIAN
METHOD:PUBLISH
X-ORIGINAL-URL:https://burkemanor.com
X-WR-CALDESC:Events for The Burke Manor Inn &amp; Pavilion 
REFRESH-INTERVAL;VALUE=DURATION:PT1H
X-Robots-Tag:noindex
X-PUBLISHED-TTL:PT1H
BEGIN:VTIMEZONE
TZID:America/New_York
BEGIN:DAYLIGHT
TZOFFSETFROM:-0500
TZOFFSETTO:-0400
TZNAME:EDT
DTSTART:20220313T070000
END:DAYLIGHT
BEGIN:STANDARD
TZOFFSETFROM:-0400
TZOFFSETTO:-0500
TZNAME:EST
DTSTART:20221106T060000
END:STANDARD
BEGIN:DAYLIGHT
TZOFFSETFROM:-0500
TZOFFSETTO:-0400
TZNAME:EDT
DTSTART:20230312T070000
END:DAYLIGHT
BEGIN:STANDARD
TZOFFSETFROM:-0400
TZOFFSETTO:-0500
TZNAME:EST
DTSTART:20231105T060000
END:STANDARD
BEGIN:DAYLIGHT
TZOFFSETFROM:-0500
TZOFFSETTO:-0400
TZNAME:EDT
DTSTART:20240310T070000
END:DAYLIGHT
BEGIN:STANDARD
TZOFFSETFROM:-0400
TZOFFSETTO:-0500
TZNAME:EST
DTSTART:20241103T060000
END:STANDARD
END:VTIMEZONE
BEGIN:VEVENT
DTSTART;TZID=America/New_York:20231101T170000
DTEND;TZID=America/New_York:20231103T200000
DTSTAMP:20260425T121547
CREATED:20230907T172009Z
LAST-MODIFIED:20230918T222519Z
UID:9864-1698858000-1699041600@burkemanor.com
SUMMARY:Serving Dates the Week of October 29th
DESCRIPTION:We will be serving lunch Thursday November 2nd and Friday November 3rd. \nWe will be serving dinner Wednesday November 1st through Friday November 3rd. See you then!
URL:https://burkemanor.com/event/serving-dates-the-week-of-october-29th/
LOCATION:NC
END:VEVENT
END:VCALENDAR