BEGIN:VCALENDAR
VERSION:2.0
PRODID:-//The Burke Manor Inn &amp; Pavilion  - ECPv6.15.20//NONSGML v1.0//EN
CALSCALE:GREGORIAN
METHOD:PUBLISH
X-WR-CALNAME:The Burke Manor Inn &amp; Pavilion 
X-ORIGINAL-URL:https://burkemanor.com
X-WR-CALDESC:Events for The Burke Manor Inn &amp; Pavilion 
REFRESH-INTERVAL;VALUE=DURATION:PT1H
X-Robots-Tag:noindex
X-PUBLISHED-TTL:PT1H
BEGIN:VTIMEZONE
TZID:America/New_York
BEGIN:DAYLIGHT
TZOFFSETFROM:-0500
TZOFFSETTO:-0400
TZNAME:EDT
DTSTART:20220313T070000
END:DAYLIGHT
BEGIN:STANDARD
TZOFFSETFROM:-0400
TZOFFSETTO:-0500
TZNAME:EST
DTSTART:20221106T060000
END:STANDARD
BEGIN:DAYLIGHT
TZOFFSETFROM:-0500
TZOFFSETTO:-0400
TZNAME:EDT
DTSTART:20230312T070000
END:DAYLIGHT
BEGIN:STANDARD
TZOFFSETFROM:-0400
TZOFFSETTO:-0500
TZNAME:EST
DTSTART:20231105T060000
END:STANDARD
BEGIN:DAYLIGHT
TZOFFSETFROM:-0500
TZOFFSETTO:-0400
TZNAME:EDT
DTSTART:20240310T070000
END:DAYLIGHT
BEGIN:STANDARD
TZOFFSETFROM:-0400
TZOFFSETTO:-0500
TZNAME:EST
DTSTART:20241103T060000
END:STANDARD
END:VTIMEZONE
BEGIN:VEVENT
DTSTART;TZID=America/New_York:20231018T170000
DTEND;TZID=America/New_York:20231021T200000
DTSTAMP:20260425T133518
CREATED:20230907T171007Z
LAST-MODIFIED:20230918T221922Z
UID:9859-1697648400-1697918400@burkemanor.com
SUMMARY:Serving Dates the Week of October 15th
DESCRIPTION:We will be serving lunch Friday October 20th and Saturday October 21st. \nWe will be serving dinner Wednesday October 18th\, Friday October 20th\, and Saturday October 21th. \nWe will be hosting our Sud Quest Wine Dinner Thursday October 19th See you then!
URL:https://burkemanor.com/event/serving-dates-the-week-of-october-15th/
LOCATION:NC
END:VEVENT
BEGIN:VEVENT
DTSTART;TZID=America/New_York:20231019T183000
DTEND;TZID=America/New_York:20231019T213000
DTSTAMP:20260425T133518
CREATED:20230623T231030Z
LAST-MODIFIED:20230916T155557Z
UID:9773-1697740200-1697751000@burkemanor.com
SUMMARY:"Sud Ouest" Wine Dinner   10/19
DESCRIPTION:An outstanding menu has been created by Chef Lil\, featuring specialty food and wine’s from the “Sud Ouest” region of France. \nNot to be missed!
URL:https://burkemanor.com/event/sud-ouest-wine-dinner-10-19/
LOCATION:NC
END:VEVENT
END:VCALENDAR