BEGIN:VCALENDAR
VERSION:2.0
PRODID:-//The Burke Manor Inn &amp; Pavilion  - ECPv6.15.20//NONSGML v1.0//EN
CALSCALE:GREGORIAN
METHOD:PUBLISH
X-WR-CALNAME:The Burke Manor Inn &amp; Pavilion 
X-ORIGINAL-URL:https://burkemanor.com
X-WR-CALDESC:Events for The Burke Manor Inn &amp; Pavilion 
REFRESH-INTERVAL;VALUE=DURATION:PT1H
X-Robots-Tag:noindex
X-PUBLISHED-TTL:PT1H
BEGIN:VTIMEZONE
TZID:America/New_York
BEGIN:DAYLIGHT
TZOFFSETFROM:-0500
TZOFFSETTO:-0400
TZNAME:EDT
DTSTART:20220313T070000
END:DAYLIGHT
BEGIN:STANDARD
TZOFFSETFROM:-0400
TZOFFSETTO:-0500
TZNAME:EST
DTSTART:20221106T060000
END:STANDARD
BEGIN:DAYLIGHT
TZOFFSETFROM:-0500
TZOFFSETTO:-0400
TZNAME:EDT
DTSTART:20230312T070000
END:DAYLIGHT
BEGIN:STANDARD
TZOFFSETFROM:-0400
TZOFFSETTO:-0500
TZNAME:EST
DTSTART:20231105T060000
END:STANDARD
BEGIN:DAYLIGHT
TZOFFSETFROM:-0500
TZOFFSETTO:-0400
TZNAME:EDT
DTSTART:20240310T070000
END:DAYLIGHT
BEGIN:STANDARD
TZOFFSETFROM:-0400
TZOFFSETTO:-0500
TZNAME:EST
DTSTART:20241103T060000
END:STANDARD
END:VTIMEZONE
BEGIN:VEVENT
DTSTART;TZID=America/New_York:20230907T110000
DTEND;TZID=America/New_York:20230909T210000
DTSTAMP:20260425T151328
CREATED:20230116T174733Z
LAST-MODIFIED:20230630T220319Z
UID:9045-1694084400-1694293200@burkemanor.com
SUMMARY:Serving Dates the Week of September 3
DESCRIPTION:We will be serving lunch Thursday\, September 7th and Friday\, September 8th. \nWe will be serving dinner Thursday\, September 7th through Saturday\, September 9th. \nChef Lil will be hosting our September cooking class on Saturday\, September 9th at 12:30pm. \nSee you then!
URL:https://burkemanor.com/event/serving-dates-the-week-of-september-3/
LOCATION:NC
END:VEVENT
END:VCALENDAR