BEGIN:VCALENDAR
VERSION:2.0
PRODID:-//The Burke Manor Inn &amp; Pavilion  - ECPv6.15.20//NONSGML v1.0//EN
CALSCALE:GREGORIAN
METHOD:PUBLISH
X-ORIGINAL-URL:https://burkemanor.com
X-WR-CALDESC:Events for The Burke Manor Inn &amp; Pavilion 
REFRESH-INTERVAL;VALUE=DURATION:PT1H
X-Robots-Tag:noindex
X-PUBLISHED-TTL:PT1H
BEGIN:VTIMEZONE
TZID:America/New_York
BEGIN:DAYLIGHT
TZOFFSETFROM:-0500
TZOFFSETTO:-0400
TZNAME:EDT
DTSTART:20220313T070000
END:DAYLIGHT
BEGIN:STANDARD
TZOFFSETFROM:-0400
TZOFFSETTO:-0500
TZNAME:EST
DTSTART:20221106T060000
END:STANDARD
BEGIN:DAYLIGHT
TZOFFSETFROM:-0500
TZOFFSETTO:-0400
TZNAME:EDT
DTSTART:20230312T070000
END:DAYLIGHT
BEGIN:STANDARD
TZOFFSETFROM:-0400
TZOFFSETTO:-0500
TZNAME:EST
DTSTART:20231105T060000
END:STANDARD
BEGIN:DAYLIGHT
TZOFFSETFROM:-0500
TZOFFSETTO:-0400
TZNAME:EDT
DTSTART:20240310T070000
END:DAYLIGHT
BEGIN:STANDARD
TZOFFSETFROM:-0400
TZOFFSETTO:-0500
TZNAME:EST
DTSTART:20241103T060000
END:STANDARD
END:VTIMEZONE
BEGIN:VEVENT
DTSTART;VALUE=DATE:20230822
DTEND;VALUE=DATE:20230901
DTSTAMP:20260425T151514
CREATED:20220804T221352Z
LAST-MODIFIED:20230617T144917Z
UID:8566-1692662400-1693526399@burkemanor.com
SUMMARY:Lil's Extraordinary Trips to France 2023: Normandy!
DESCRIPTION:Join Lil in his native land of France in 2023! He will be taking travelers to Normandy August 22nd through August 31st. \nPicturesque coastlines and beautiful historic regions of Normandy will be experienced. A place so rich and rooted in history\, the stunning structures and rustic scenery will “wow” any one who joins Lil’s trip. Normandy is a region so meaningful and charming\, that it is sure to take your breath away — it is no wonder why it is loved by so many. \nFor our itinerary\, please visit https://burkemanor.com/normandy-and-south-of-france-trip-itinerary/normandy-2023/.
URL:https://burkemanor.com/event/lils-extraordinary-trips-to-france-2023-normandy/
LOCATION:NC
END:VEVENT
END:VCALENDAR