BEGIN:VCALENDAR
VERSION:2.0
PRODID:-//The Burke Manor Inn &amp; Pavilion  - ECPv6.15.20//NONSGML v1.0//EN
CALSCALE:GREGORIAN
METHOD:PUBLISH
X-ORIGINAL-URL:https://burkemanor.com
X-WR-CALDESC:Events for The Burke Manor Inn &amp; Pavilion 
REFRESH-INTERVAL;VALUE=DURATION:PT1H
X-Robots-Tag:noindex
X-PUBLISHED-TTL:PT1H
BEGIN:VTIMEZONE
TZID:America/New_York
BEGIN:DAYLIGHT
TZOFFSETFROM:-0500
TZOFFSETTO:-0400
TZNAME:EDT
DTSTART:20220313T070000
END:DAYLIGHT
BEGIN:STANDARD
TZOFFSETFROM:-0400
TZOFFSETTO:-0500
TZNAME:EST
DTSTART:20221106T060000
END:STANDARD
BEGIN:DAYLIGHT
TZOFFSETFROM:-0500
TZOFFSETTO:-0400
TZNAME:EDT
DTSTART:20230312T070000
END:DAYLIGHT
BEGIN:STANDARD
TZOFFSETFROM:-0400
TZOFFSETTO:-0500
TZNAME:EST
DTSTART:20231105T060000
END:STANDARD
BEGIN:DAYLIGHT
TZOFFSETFROM:-0500
TZOFFSETTO:-0400
TZNAME:EDT
DTSTART:20240310T070000
END:DAYLIGHT
BEGIN:STANDARD
TZOFFSETFROM:-0400
TZOFFSETTO:-0500
TZNAME:EST
DTSTART:20241103T060000
END:STANDARD
END:VTIMEZONE
BEGIN:VEVENT
DTSTART;TZID=America/New_York:20230816T160000
DTEND;TZID=America/New_York:20230816T173000
DTSTAMP:20260425T164817
CREATED:20230316T191315Z
LAST-MODIFIED:20230715T153338Z
UID:9597-1692201600-1692207000@burkemanor.com
SUMMARY:Rose & Charcuterie on the Verandah
DESCRIPTION:Be whisked away to Gibsonville’s little piece of Provence this summer! \nExperience a glass or bottle of rosé at special pricing and our Burke Manor Charcuterie Board\, only available during these social hours. À bientôt! \nRosé: $8 per glass\, $30 per bottle \nCharcuterie: $18 per board \nJuly 26\, August 2\, August 9\, and August 16 \n4:00pm – 5:30pm \n 
URL:https://burkemanor.com/event/meet-the-owners-of-the-burke-manor-inn-pavilion-4/
LOCATION:NC
END:VEVENT
BEGIN:VEVENT
DTSTART;TZID=America/New_York:20230816T170000
DTEND;TZID=America/New_York:20230819T210000
DTSTAMP:20260425T164817
CREATED:20230116T174346Z
LAST-MODIFIED:20230630T220700Z
UID:9041-1692205200-1692478800@burkemanor.com
SUMMARY:Serving Dates the Week of August 13
DESCRIPTION:We will be serving lunch Thursday\, August 17th through Saturday\, August 19th. \nWe will be serving dinner Wednesday\, August 16th through Saturday\, August 19th. See you then!
URL:https://burkemanor.com/event/serving-dates-the-week-of-august-13/
LOCATION:NC
END:VEVENT
END:VCALENDAR