BEGIN:VCALENDAR
VERSION:2.0
PRODID:-//The Burke Manor Inn &amp; Pavilion  - ECPv6.15.20//NONSGML v1.0//EN
CALSCALE:GREGORIAN
METHOD:PUBLISH
X-ORIGINAL-URL:https://burkemanor.com
X-WR-CALDESC:Events for The Burke Manor Inn &amp; Pavilion 
REFRESH-INTERVAL;VALUE=DURATION:PT1H
X-Robots-Tag:noindex
X-PUBLISHED-TTL:PT1H
BEGIN:VTIMEZONE
TZID:America/New_York
BEGIN:DAYLIGHT
TZOFFSETFROM:-0500
TZOFFSETTO:-0400
TZNAME:EDT
DTSTART:20220313T070000
END:DAYLIGHT
BEGIN:STANDARD
TZOFFSETFROM:-0400
TZOFFSETTO:-0500
TZNAME:EST
DTSTART:20221106T060000
END:STANDARD
BEGIN:DAYLIGHT
TZOFFSETFROM:-0500
TZOFFSETTO:-0400
TZNAME:EDT
DTSTART:20230312T070000
END:DAYLIGHT
BEGIN:STANDARD
TZOFFSETFROM:-0400
TZOFFSETTO:-0500
TZNAME:EST
DTSTART:20231105T060000
END:STANDARD
BEGIN:DAYLIGHT
TZOFFSETFROM:-0500
TZOFFSETTO:-0400
TZNAME:EDT
DTSTART:20240310T070000
END:DAYLIGHT
BEGIN:STANDARD
TZOFFSETFROM:-0400
TZOFFSETTO:-0500
TZNAME:EST
DTSTART:20241103T060000
END:STANDARD
END:VTIMEZONE
BEGIN:VEVENT
DTSTART;TZID=America/New_York:20230701T080000
DTEND;TZID=America/New_York:20230719T210000
DTSTAMP:20260425T180526
CREATED:20230116T173612Z
LAST-MODIFIED:20230617T145901Z
UID:9031-1688198400-1689800400@burkemanor.com
SUMMARY:Fine Dining Restaurant :July 1st - July 19th
DESCRIPTION:We will not be offering lunch or dinner service from July 1st – July 19th \n(Chef Lil & Lori will be conducting the South of France trip together\, and the majority of our Staff will be on well deserved vacations) \n 
URL:https://burkemanor.com/event/fine-dining-restaurant-closure-june-21-through-july-15/
LOCATION:NC
END:VEVENT
BEGIN:VEVENT
DTSTART;VALUE=DATE:20230703
DTEND;VALUE=DATE:20230713
DTSTAMP:20260425T180526
CREATED:20220610T230435Z
LAST-MODIFIED:20230208T190214Z
UID:8361-1688342400-1689206399@burkemanor.com
SUMMARY:Lil's Extraordinary Trips to France 2023: South of France!
DESCRIPTION:Join Lil in his native land of France in 2023! He will take travelers to the South of France July third through July 12th. \nExperience luxury like never before during Lil’s trip to the South of France. Amazing\, sunny weather has inspired painters and artists captivated by this region’s natural light. The gastronomy\, “Cuisine du Soleil” is delicious\, healthy\, and light. Join the locals in looking and doing good while taking in the elegant luxury of this quiet\, Provencal farniente. Described as a “paradise on Earth\,” you will experience incredible comfort in Lil’s home region. \nFor our itinerary\, please visit https://burkemanor.com/normandy-and-south-of-france-trip-itinerary/south-of-france-2023/. \n  \n  \nFrance Woman Overlooking Tourist Provence Gordes
URL:https://burkemanor.com/event/lils-extraordinary-trips-to-france-2023-south-of-france/
LOCATION:NC
END:VEVENT
END:VCALENDAR