BEGIN:VCALENDAR
VERSION:2.0
PRODID:-//The Burke Manor Inn &amp; Pavilion  - ECPv6.15.20//NONSGML v1.0//EN
CALSCALE:GREGORIAN
METHOD:PUBLISH
X-ORIGINAL-URL:https://burkemanor.com
X-WR-CALDESC:Events for The Burke Manor Inn &amp; Pavilion 
REFRESH-INTERVAL;VALUE=DURATION:PT1H
X-Robots-Tag:noindex
X-PUBLISHED-TTL:PT1H
BEGIN:VTIMEZONE
TZID:America/New_York
BEGIN:DAYLIGHT
TZOFFSETFROM:-0500
TZOFFSETTO:-0400
TZNAME:EDT
DTSTART:20220313T070000
END:DAYLIGHT
BEGIN:STANDARD
TZOFFSETFROM:-0400
TZOFFSETTO:-0500
TZNAME:EST
DTSTART:20221106T060000
END:STANDARD
BEGIN:DAYLIGHT
TZOFFSETFROM:-0500
TZOFFSETTO:-0400
TZNAME:EDT
DTSTART:20230312T070000
END:DAYLIGHT
BEGIN:STANDARD
TZOFFSETFROM:-0400
TZOFFSETTO:-0500
TZNAME:EST
DTSTART:20231105T060000
END:STANDARD
BEGIN:DAYLIGHT
TZOFFSETFROM:-0500
TZOFFSETTO:-0400
TZNAME:EDT
DTSTART:20240310T070000
END:DAYLIGHT
BEGIN:STANDARD
TZOFFSETFROM:-0400
TZOFFSETTO:-0500
TZNAME:EST
DTSTART:20241103T060000
END:STANDARD
END:VTIMEZONE
BEGIN:VEVENT
DTSTART;TZID=America/New_York:20230521T080000
DTEND;TZID=America/New_York:20230527T210000
DTSTAMP:20260425T212808
CREATED:20230116T172928Z
LAST-MODIFIED:20230425T205851Z
UID:9023-1684656000-1685221200@burkemanor.com
SUMMARY:Serving Dates the Week of May 21
DESCRIPTION:We will be serving lunch Thursday\, May 25th and Friday\, May 26th. \nWe will be serving dinner Wednesday\, May 24th\, through Friday\, May 26th. \nChef Lil will be hosting a Wine Tasting Class on Saturday\, May\, 27th at 12:30pm. \n 
URL:https://burkemanor.com/event/serving-dates-the-week-of-may-21/
LOCATION:NC
END:VEVENT
BEGIN:VEVENT
DTSTART;TZID=America/New_York:20230527T123000
DTEND;TZID=America/New_York:20230527T143000
DTSTAMP:20260425T212808
CREATED:20230119T164054Z
LAST-MODIFIED:20230221T201216Z
UID:9094-1685190600-1685197800@burkemanor.com
SUMMARY:May Wine Tasting Class\, Saturday 5/27
DESCRIPTION:Join Chef Lil at The Burke Manor as he describes basics and differences in wine based on grape region\, appellation\, the power of the terroir\, and human techniques. As France is home to many of the world’s most notable wine regions\, our French Chef will describe the wide variety of styles and types of wine. You don’t want to miss this! \nReservations required. We request all cancellations be made 48 hours or more prior to event. If cancellation occurs within a 48-hour timeframe\, a $25 fee will apply. A credit card may be required to guarantee your reservation. \n 
URL:https://burkemanor.com/event/may-cooking-class-saturday-5-27/
LOCATION:NC
END:VEVENT
BEGIN:VEVENT
DTSTART;TZID=America/New_York:20230527T170000
DTEND;TZID=America/New_York:20230527T220000
DTSTAMP:20260425T212808
CREATED:20230425T205030Z
LAST-MODIFIED:20230425T205030Z
UID:8339-1685206800-1685224800@burkemanor.com
SUMMARY:No A La Carte Dinner Service 5/27
DESCRIPTION:Due to a private event the evening of Saturday\, May 27th we will not be offering a la carte dinner service.
URL:https://burkemanor.com/event/no-a-la-carte-dinner-service-5-27/
LOCATION:NC
END:VEVENT
END:VCALENDAR