BEGIN:VCALENDAR
VERSION:2.0
PRODID:-//The Burke Manor Inn &amp; Pavilion  - ECPv6.15.20//NONSGML v1.0//EN
CALSCALE:GREGORIAN
METHOD:PUBLISH
X-WR-CALNAME:The Burke Manor Inn &amp; Pavilion 
X-ORIGINAL-URL:https://burkemanor.com
X-WR-CALDESC:Events for The Burke Manor Inn &amp; Pavilion 
REFRESH-INTERVAL;VALUE=DURATION:PT1H
X-Robots-Tag:noindex
X-PUBLISHED-TTL:PT1H
BEGIN:VTIMEZONE
TZID:America/New_York
BEGIN:DAYLIGHT
TZOFFSETFROM:-0500
TZOFFSETTO:-0400
TZNAME:EDT
DTSTART:20220313T070000
END:DAYLIGHT
BEGIN:STANDARD
TZOFFSETFROM:-0400
TZOFFSETTO:-0500
TZNAME:EST
DTSTART:20221106T060000
END:STANDARD
BEGIN:DAYLIGHT
TZOFFSETFROM:-0500
TZOFFSETTO:-0400
TZNAME:EDT
DTSTART:20230312T070000
END:DAYLIGHT
BEGIN:STANDARD
TZOFFSETFROM:-0400
TZOFFSETTO:-0500
TZNAME:EST
DTSTART:20231105T060000
END:STANDARD
BEGIN:DAYLIGHT
TZOFFSETFROM:-0500
TZOFFSETTO:-0400
TZNAME:EDT
DTSTART:20240310T070000
END:DAYLIGHT
BEGIN:STANDARD
TZOFFSETFROM:-0400
TZOFFSETTO:-0500
TZNAME:EST
DTSTART:20241103T060000
END:STANDARD
END:VTIMEZONE
BEGIN:VEVENT
DTSTART;TZID=America/New_York:20230514T080000
DTEND;TZID=America/New_York:20230520T210000
DTSTAMP:20260425T212743
CREATED:20230116T172607Z
LAST-MODIFIED:20230119T171721Z
UID:9019-1684051200-1684616400@burkemanor.com
SUMMARY:Serving Dates the Week of May 14
DESCRIPTION:We will be serving our Special Mother’s Day Brunch on Sunday\, May 14th from 11:30am to 2:00pm. \nWe will be serving lunch Thursday\, May 18th through Saturday\, May 20th. \nWe will be serving dinner Wednesday\, May 17th through Saturday\, May 20th. See you then!
URL:https://burkemanor.com/event/serving-dates-the-week-of-may-14/
LOCATION:NC
END:VEVENT
BEGIN:VEVENT
DTSTART;TZID=America/New_York:20230514T113000
DTEND;TZID=America/New_York:20230514T140000
DTSTAMP:20260425T212743
CREATED:20230119T163259Z
LAST-MODIFIED:20230119T220816Z
UID:9084-1684063800-1684072800@burkemanor.com
SUMMARY:Special Mother's Day Brunch\, Sunday 5/14
DESCRIPTION:Join us Sunday\, May 15th for a special Mother’s Day brunch curated by Owner/Chef Lil Lacassagne. \nReservations required. We request all cancellations be made 48 hours or more prior to event. If cancellation occurs within a 48-hour timeframe\, a $25 fee will apply. A credit card may be required to guarantee your reservation.
URL:https://burkemanor.com/event/special-mothers-day-brunch-sunday-5-14/
LOCATION:NC
END:VEVENT
END:VCALENDAR