BEGIN:VCALENDAR
VERSION:2.0
PRODID:-//The Burke Manor Inn &amp; Pavilion  - ECPv6.15.20//NONSGML v1.0//EN
CALSCALE:GREGORIAN
METHOD:PUBLISH
X-ORIGINAL-URL:https://burkemanor.com
X-WR-CALDESC:Events for The Burke Manor Inn &amp; Pavilion 
REFRESH-INTERVAL;VALUE=DURATION:PT1H
X-Robots-Tag:noindex
X-PUBLISHED-TTL:PT1H
BEGIN:VTIMEZONE
TZID:America/New_York
BEGIN:DAYLIGHT
TZOFFSETFROM:-0500
TZOFFSETTO:-0400
TZNAME:EDT
DTSTART:20220313T070000
END:DAYLIGHT
BEGIN:STANDARD
TZOFFSETFROM:-0400
TZOFFSETTO:-0500
TZNAME:EST
DTSTART:20221106T060000
END:STANDARD
BEGIN:DAYLIGHT
TZOFFSETFROM:-0500
TZOFFSETTO:-0400
TZNAME:EDT
DTSTART:20230312T070000
END:DAYLIGHT
BEGIN:STANDARD
TZOFFSETFROM:-0400
TZOFFSETTO:-0500
TZNAME:EST
DTSTART:20231105T060000
END:STANDARD
BEGIN:DAYLIGHT
TZOFFSETFROM:-0500
TZOFFSETTO:-0400
TZNAME:EDT
DTSTART:20240310T070000
END:DAYLIGHT
BEGIN:STANDARD
TZOFFSETFROM:-0400
TZOFFSETTO:-0500
TZNAME:EST
DTSTART:20241103T060000
END:STANDARD
END:VTIMEZONE
BEGIN:VEVENT
DTSTART;TZID=America/New_York:20230430T080000
DTEND;TZID=America/New_York:20230506T210000
DTSTAMP:20260425T212753
CREATED:20230116T172032Z
LAST-MODIFIED:20230116T172032Z
UID:9013-1682841600-1683406800@burkemanor.com
SUMMARY:Serving Dates the Week of April 30
DESCRIPTION:We will be serving dinner Wednesday\, May 3rd. See you then!
URL:https://burkemanor.com/event/serving-dates-the-week-of-april-30/
LOCATION:NC
END:VEVENT
BEGIN:VEVENT
DTSTART;TZID=America/New_York:20230503T080000
DTEND;TZID=America/New_York:20230510T210000
DTSTAMP:20260425T212753
CREATED:20230116T172315Z
LAST-MODIFIED:20230428T011601Z
UID:9015-1683100800-1683752400@burkemanor.com
SUMMARY:No A la carte  May 3 - May 10
DESCRIPTION:Due to a very special event\, out of state\, our fine dining restaurant will be closed for lunch and dinner service  Wednesday\, May 3rd through Wednesday\, May 10th. \n 
URL:https://burkemanor.com/event/inn-and-restaurant-closed-may-4-may-7/
LOCATION:NC
END:VEVENT
END:VCALENDAR