BEGIN:VCALENDAR
VERSION:2.0
PRODID:-//The Burke Manor Inn &amp; Pavilion  - ECPv6.15.20//NONSGML v1.0//EN
CALSCALE:GREGORIAN
METHOD:PUBLISH
X-ORIGINAL-URL:https://burkemanor.com
X-WR-CALDESC:Events for The Burke Manor Inn &amp; Pavilion 
REFRESH-INTERVAL;VALUE=DURATION:PT1H
X-Robots-Tag:noindex
X-PUBLISHED-TTL:PT1H
BEGIN:VTIMEZONE
TZID:America/New_York
BEGIN:DAYLIGHT
TZOFFSETFROM:-0500
TZOFFSETTO:-0400
TZNAME:EDT
DTSTART:20220313T070000
END:DAYLIGHT
BEGIN:STANDARD
TZOFFSETFROM:-0400
TZOFFSETTO:-0500
TZNAME:EST
DTSTART:20221106T060000
END:STANDARD
BEGIN:DAYLIGHT
TZOFFSETFROM:-0500
TZOFFSETTO:-0400
TZNAME:EDT
DTSTART:20230312T070000
END:DAYLIGHT
BEGIN:STANDARD
TZOFFSETFROM:-0400
TZOFFSETTO:-0500
TZNAME:EST
DTSTART:20231105T060000
END:STANDARD
BEGIN:DAYLIGHT
TZOFFSETFROM:-0500
TZOFFSETTO:-0400
TZNAME:EDT
DTSTART:20240310T070000
END:DAYLIGHT
BEGIN:STANDARD
TZOFFSETFROM:-0400
TZOFFSETTO:-0500
TZNAME:EST
DTSTART:20241103T060000
END:STANDARD
END:VTIMEZONE
BEGIN:VEVENT
DTSTART;TZID=America/New_York:20230409T080000
DTEND;TZID=America/New_York:20230415T210000
DTSTAMP:20260425T231401
CREATED:20230116T163932Z
LAST-MODIFIED:20230216T210943Z
UID:9007-1681027200-1681592400@burkemanor.com
SUMMARY:Serving Dates the Week of April 9
DESCRIPTION:We will be serving lunch Thursday\, April 13th and Friday\, April 14th. \nWe will be serving dinner Thursday\, April 13th and Friday\, April 14th. See you then!
URL:https://burkemanor.com/event/serving-dates-the-week-of-april-9/
LOCATION:NC
END:VEVENT
BEGIN:VEVENT
DTSTART;TZID=America/New_York:20230409T150000
DTEND;TZID=America/New_York:20230409T180000
DTSTAMP:20260425T231401
CREATED:20230221T201635Z
LAST-MODIFIED:20230221T201635Z
UID:9182-1681052400-1681063200@burkemanor.com
SUMMARY:Easter Supper\, Sunday\, 4/9
DESCRIPTION:Join us for a special Easter Supper on Sunday\, April 9th from 3:00pm – 6:00pm. \nReservations required. We request all cancellations be made 48 hours or more prior to event. If cancellation occurs within a 48-hour timeframe\, a $25 fee will apply. A credit card may be required to guarantee your reservation. \n \n 
URL:https://burkemanor.com/event/easter-supper-sunday-4-9/
LOCATION:NC
END:VEVENT
END:VCALENDAR